BEGIN:VCALENDAR
VERSION:2.0
PRODID:-//ChamberMaster//Event Calendar 2.0//EN
METHOD:PUBLISH
X-PUBLISHED-TTL:P3D
REFRESH-INTERVAL:P3D
CALSCALE:GREGORIAN
BEGIN:VEVENT
DTSTART:20161119T160000Z
DTEND:20161119T180000Z
X-MICROSOFT-CDO-ALLDAYEVENT:FALSE
SUMMARY:International Survivors of Suicide Day
DESCRIPTION:The Central Nebraska LOSS Team will hold an event at Harmon Park for International Survivors of Suicide Day. We will have speakers\, a balloon launch and coffee and rolls.
X-ALT-DESC;FMTTYPE=text/html:The Central Nebraska LOSS Team will hold an event at Harmon Park for International Survivors of Suicide Day. We will have speakers\, a balloon launch and coffee and rolls.
LOCATION:Harmon Park Activity Center\, Kearney\, NE
UID:e.1404.9088
SEQUENCE:3
DTSTAMP:20260421T120005Z
URL:https://chambermaster.kearneycoc.org/events/details/international-survivors-of-suicide-day-9088
END:VEVENT

END:VCALENDAR
