BEGIN:VCALENDAR
VERSION:2.0
PRODID:-//ChamberMaster//Event Calendar 2.0//EN
METHOD:PUBLISH
X-PUBLISHED-TTL:P3D
REFRESH-INTERVAL:P3D
CALSCALE:GREGORIAN
BEGIN:VEVENT
DTSTART:20140306T143000Z
DTEND:20140306T153000Z
X-MICROSOFT-CDO-ALLDAYEVENT:FALSE
SUMMARY:Is your Business Red Cross Ready?
DESCRIPTION:Thursday\, March 6\n	\n		8:30 am - 9:30 am\n	\n		Kearney Area Chamber of Commerce Board Room\n	\n		1007 Second Ave.\n	\n		$15.00 for Chamber Members\, $20.00 for non-members\n	\n		Breakfast is provided.\n	\n		Please RSVP to Leslie Means at lmeans@kearneycoc.org or register online above.  \n	\n		Presented by:  John Jones\, Disaster Program Manager\n\n\n	\n		 Is Your Business Prepared?\n	\n		\n			\n				\n					\n						\n							\n								\n									\n										15-40 percent of businesses fail following a natural or manmade disaster.1\n									\n										94 percent of small business owners believe a disaster could seriously disrupt their business within the next two years.2\n									\n										51 percent of Americans have experienced at least one emergency situation where they lost utilities for at least three days\, had to evacuate and could not return home\, could not communicate with family members or had to provide first aid to others.3\n								\n								\n									 Are Your Employees Ready?\n								\n									\n										Only 2 in 10 Americans feel prepared for a catastrophic event.4\n									\n										Close to 60 percent of Americans are wholly unprepared for a disaster of any kind.4\n									\n										54 percent of Americans don't prepare because they believe a disaster will not affect them.5\n									\n										Only 1 in 10 American households has taken the appropriate preparedness steps: a family emergency plan\, an emergency supply kit and training in First Aid and CPR/AED.4\n									\n										82 percent of Americans agree "If someone could make it easy for me to be prepared\, I'd do it".4\n								\n								\n									Emergencies Are Inevitable.   This morning seminar will help your business be prepared!
X-ALT-DESC;FMTTYPE=text/html:<ul style="color: rgb(0\, 0\, 0)\; font-family: Helvetica\, Arial\, sans-serif\;">\n	<li style="list-style-type: square\;">\n		Thursday\, March 6</li>\n	<li style="list-style-type: square\;">\n		8:30 am - 9:30 am</li>\n	<li style="list-style-type: square\;">\n		Kearney Area Chamber of Commerce Board Room</li>\n	<li style="list-style-type: square\;">\n		1007 Second Ave.</li>\n	<li style="list-style-type: square\;">\n		$15.00 for Chamber Members\, $20.00 for non-members</li>\n	<li style="list-style-type: square\;">\n		Breakfast is provided.</li>\n	<li style="list-style-type: square\;">\n		Please RSVP to Leslie Means at lmeans@kearneycoc.org or register online above. &nbsp\;</li>\n	<li style="list-style-type: square\;">\n		Presented by: &nbsp\;John Jones\, Disaster Program Manager</li>\n</ul>\n<div style="list-style-type: square\;">\n	<div class="dnntitle" style="color: rgb(0\, 0\, 0)\; line-height: 18px\; font-family: Arial\, Helvetica\, sans-serif\; padding: 1px 8px 1px 0px\; white-space: nowrap\;">\n		<b><font style="line-height: 1.5\;">&nbsp\;</font><font style="line-height: 1.5\;">Is Your Business Prepared?</font></b></div>\n	<div class="contentmain1" style="color: rgb(0\, 0\, 0)\; line-height: 18px\; font-family: Arial\, Helvetica\, sans-serif\;">\n		<div class="contentpane" id="dnn_ctr2123_ContentPane" style="line-height: 1.5\; padding: 3px 0px 1px\; vertical-align: top\; clear: both\;">\n			<div class="DNNModuleContent ModDNNHTMLC" id="dnn_ctr2123_ModuleContent" style="line-height: 1.5\;">\n				<div class="Normal" id="dnn_ctr2123_HtmlModule_lblContent" style="line-height: 1.5\;">\n					<div style="line-height: 1.5\;">\n						<div class="O" style="line-height: 1.5\;">\n							<div class="O1" style="line-height: 1.5\;">\n								<ul style="color: rgb(64\, 64\, 64)\;">\n									<li style="list-style-type: square\;">\n										<font style="line-height: 1.5\;">15-40 percent of businesses fail following a natural or manmade disaster.</font><sup>1</sup></li>\n									<li style="list-style-type: square\;">\n										<font style="line-height: 1.5\;">94 percent of small business owners believe a disaster could seriously disrupt their business within&nbsp\;the&nbsp\;next two years.</font><sup>2</sup></li>\n									<li style="list-style-type: square\;">\n										<font style="line-height: 1.5\;">51 percent of Americans have experienced at least one emergency situation where they lost utilities for at least three days\, had to evacuate and could not return home\, could not communicate with family members or had to provide first aid to others.</font><sup>3</sup></li>\n								</ul>\n								<p style="line-height: 1.5\; padding: 0px\; margin: 6pt 0in\;">\n									<b>&nbsp\;Are Your Employees Ready?</b></p>\n								<ul style="color: rgb(64\, 64\, 64)\;">\n									<li style="list-style-type: square\;">\n										<font style="line-height: 1.5\;">Only 2 in 10 Americans feel prepared for a catastrophic event.</font><sup>4</sup></li>\n									<li style="list-style-type: square\;">\n										<font style="line-height: 1.5\;">Close to 60 percent of Americans are wholly unprepared for a disaster of any kind.</font><sup>4</sup></li>\n									<li style="list-style-type: square\;">\n										<font style="line-height: 1.5\;">54 percent of Americans don&#39\;t prepare because they believe a disaster will not affect them.</font><sup>5</sup></li>\n									<li style="list-style-type: square\;">\n										<font style="line-height: 1.5\;">Only 1 in 10 American households has taken the appropriate preparedness steps: a family emergency plan\, an emergency supply kit and training in First Aid and CPR/AED.</font><sup>4</sup></li>\n									<li style="list-style-type: square\;">\n										<font style="line-height: 1.5\;">82 percent of Americans agree &ldquo\;If someone could make it easy for me to be prepared\, I&rsquo\;d do it&rdquo\;.</font><sup>4</sup></li>\n								</ul>\n								<p style="color: rgb(64\, 64\, 64)\; line-height: 1.5\; padding: 0px\; margin: 6pt 0in\;">\n									<b>Emergencies Are Inevitable. &nbsp\; This morning seminar will help your business be prepared!</b></p>\n							</div>\n						</div>\n					</div>\n				</div>\n			</div>\n		</div>\n	</div>\n</div>\n<br />\n
LOCATION:Kearney Area Chamber of Commerce Board Room 1007 Second Ave
UID:e.1404.4442
SEQUENCE:3
DTSTAMP:20260423T181116Z
URL:https://chambermaster.kearneycoc.org/events/details/is-your-business-red-cross-ready-03-06-2014-4442
END:VEVENT

END:VCALENDAR
