BEGIN:VCALENDAR
VERSION:2.0
PRODID:-//ChamberMaster//Event Calendar 2.0//EN
METHOD:PUBLISH
X-PUBLISHED-TTL:P3D
REFRESH-INTERVAL:P3D
CALSCALE:GREGORIAN
BEGIN:VEVENT
DTSTART:20190413T140000Z
DTEND:20190413T150000Z
X-MICROSOFT-CDO-ALLDAYEVENT:FALSE
SUMMARY:It's Easy Being Green During U.S. Cellular Device Workshop
DESCRIPTION:Protecting and conserving the environment are as important as ever. So why not make your friends green with envy during simple usage of your smartphone? Smartphones and tablets make preserving our world even easier\, whether it's unplugging your charger when not in use\, powering on sleep mode before going to bed for the night or using the latest apps to learn how to be more green in your daily life. With Earth Day on April 22\, U.S. Cellular will host a free Device Workshop in Kearney\, where associates will share ways on how to best use your phone to make your carbon footprint a little smaller. The workshop is open to everyone. You do not have to be a U.S. Cellular customer to attend. "As technology grows and becomes more advanced\, we can use it to help preserve the Earth in more ways than ever before\," said Mike Adams\, U.S. Cellular's director of sales for Nebraska and Iowa. "So having our local tech experts show how we can use our phones or tablets to help conserve our environment makes these workshops an important learning opportunity for everyone." Please call 308-236-2075 for more information.
X-ALT-DESC;FMTTYPE=text/html:Protecting and conserving the environment are as important as ever. So why not make your friends green with envy during simple usage of your smartphone? Smartphones and tablets make preserving our world even easier\, whether it&rsquo\;s unplugging your charger when not in use\, powering on sleep mode before going to bed for the night or using the latest apps to learn how to be more green in your daily life. With Earth Day on April 22\, U.S. Cellular will host a free Device Workshop in Kearney\, where associates will share ways on how to best use your phone to make your carbon footprint a little smaller. The workshop is open to everyone. You do not have to be a U.S. Cellular customer to attend. &ldquo\;As technology grows and becomes more advanced\, we can use it to help preserve the Earth in more ways than ever before\,&rdquo\; said Mike Adams\, U.S. Cellular&rsquo\;s director of sales for Nebraska and Iowa. &ldquo\;So having our local tech experts show how we can use our phones or tablets to help conserve our environment makes these workshops an important learning opportunity for everyone.&rdquo\; Please call 308-236-2075 for more information.
LOCATION:U.S. Cellular 5306 Second Ave. Kearney\, NE 68845
UID:e.1404.15453
SEQUENCE:3
DTSTAMP:20260426T032613Z
URL:https://chambermaster.kearneycoc.org/events/details/it-s-easy-being-green-during-u-s-cellular-device-workshop-15453
END:VEVENT

END:VCALENDAR
