BEGIN:VCALENDAR
VERSION:2.0
PRODID:-//ChamberMaster//Event Calendar 2.0//EN
METHOD:PUBLISH
X-PUBLISHED-TTL:P3D
REFRESH-INTERVAL:P3D
CALSCALE:GREGORIAN
BEGIN:VEVENT
DTSTART:20160607T170000Z
DTEND:20160607T180000Z
X-MICROSOFT-CDO-ALLDAYEVENT:FALSE
SUMMARY:JA Board Meeting
DESCRIPTION:
X-ALT-DESC;FMTTYPE=text/html:
LOCATION:
UID:e.1404.8550
SEQUENCE:3
DTSTAMP:20260421T201528Z
URL:https://chambermaster.kearneycoc.org/events/details/ja-board-meeting-06-07-2016-8550
END:VEVENT

END:VCALENDAR
