BEGIN:VCALENDAR
VERSION:2.0
PRODID:-//ChamberMaster//Event Calendar 2.0//EN
METHOD:PUBLISH
X-PUBLISHED-TTL:P3D
REFRESH-INTERVAL:P3D
CALSCALE:GREGORIAN
BEGIN:VEVENT
DTSTART:20131203T173000Z
DTEND:20131203T193000Z
X-MICROSOFT-CDO-ALLDAYEVENT:FALSE
SUMMARY:JA Teacher meeting
DESCRIPTION:Junior Achievement Meeting for anyone interested in teaching in the schools in 2014.
X-ALT-DESC;FMTTYPE=text/html:Junior Achievement Meeting for anyone interested in teaching in the schools in 2014. &nbsp\;
LOCATION:
UID:e.1404.3373
SEQUENCE:3
DTSTAMP:20260423T231146Z
URL:https://chambermaster.kearneycoc.org/events/details/ja-teacher-meeting-12-03-2013-3373
END:VEVENT

END:VCALENDAR
