BEGIN:VCALENDAR
VERSION:2.0
PRODID:-//ChamberMaster//Event Calendar 2.0//EN
METHOD:PUBLISH
X-PUBLISHED-TTL:P3D
REFRESH-INTERVAL:P3D
CALSCALE:GREGORIAN
BEGIN:VEVENT
DTSTART:20140929T140000Z
DTEND:20140930T020000Z
X-MICROSOFT-CDO-ALLDAYEVENT:FALSE
SUMMARY:James E. Smith Midwest Conference on World Affairs
DESCRIPTION:"Positive Engagement in the Global Community" is the theme of this year's 50th Anniversary conference. Sessions will be presented by Nebraska individuals and organizations who have made a significant difference around the world. Keynote address\, "Can One Person Really Change the World?" will be presented by Author and Photojournalist\, Mr. Tom Clynes.
X-ALT-DESC;FMTTYPE=text/html:"Positive Engagement in the Global Community" is the theme of this year's 50th Anniversary conference. Sessions will be presented by Nebraska individuals and organizations who have made a significant difference around the world. Keynote address\, "Can One Person Really Change the World?" will be presented by Author and Photojournalist\, Mr. Tom Clynes.
LOCATION:University of Nebraska at Kearney\, Nebraskan Student Union Ponderosa Room
UID:e.1404.5324
SEQUENCE:3
DTSTAMP:20260423T083726Z
URL:https://chambermaster.kearneycoc.org/events/details/james-e-smith-midwest-conference-on-world-affairs-09-29-2014-5324
END:VEVENT

END:VCALENDAR
