BEGIN:VCALENDAR
VERSION:2.0
PRODID:-//ChamberMaster//Event Calendar 2.0//EN
METHOD:PUBLISH
X-PUBLISHED-TTL:P3D
REFRESH-INTERVAL:P3D
CALSCALE:GREGORIAN
BEGIN:VEVENT
DTSTART:20130131T230000Z
DTEND:20130201T010000Z
X-MICROSOFT-CDO-ALLDAYEVENT:FALSE
SUMMARY:Jan Rodehorst Farewell Reception
DESCRIPTION:Join the Chamber staff & Board of Directors as we wish outgoing Chamber Director Jan Rodehorst a happy farewell.  A reception will be held in the Chamber boardroom from 5-7 PM in Jan's honor.  Hors d'oeuvres & refreshments will be served.  We hope you will join us.
X-ALT-DESC;FMTTYPE=text/html:Join the Chamber staff &amp\; Board of Directors as we wish outgoing Chamber Director Jan Rodehorst a happy farewell. &nbsp\;A reception will be held in the Chamber boardroom from 5-7 PM in Jan&#39\;s honor. &nbsp\;Hors d&#39\;oeuvres &amp\; refreshments will be served. &nbsp\;We hope you will join us.
LOCATION:Kearney Area Chamber of Commerce (1007 2nd Ave) Board Room
UID:e.1404.2236
SEQUENCE:3
DTSTAMP:20260424T191305Z
URL:https://chambermaster.kearneycoc.org/events/details/jan-rodehorst-farewell-reception-01-31-2013-2236
END:VEVENT

END:VCALENDAR
