BEGIN:VCALENDAR
VERSION:2.0
PRODID:-//ChamberMaster//Event Calendar 2.0//EN
METHOD:PUBLISH
X-PUBLISHED-TTL:P3D
REFRESH-INTERVAL:P3D
CALSCALE:GREGORIAN
BEGIN:VEVENT
DTSTART:20150509T220000Z
DTEND:20150510T040000Z
X-MICROSOFT-CDO-ALLDAYEVENT:FALSE
SUMMARY:Jazz & Wine Festival
DESCRIPTION:Taste a variety of wines from 15+ vineyards and microbrews from 3 microbreweries. The first 3\,000 attendees receive a keepsake souvenir glass! Enjoy live music from Thalken\, Tesdall and Thalken with Hird and Crocker Ed "Smooth Groves" Archibald Group\, and Kearney Jazz Society.
X-ALT-DESC;FMTTYPE=text/html:<span style="line-height: 20.7999992370605px\;">Taste a variety of wines from 15+ vineyards and&nbsp\;</span>microbrews<span style="line-height: 20.7999992370605px\;">&nbsp\;from 3&nbsp\;</span>microbreweries<span style="line-height: 20.7999992370605px\;">. The first 3\,000 attendees receive a keepsake souvenir glass! Enjoy live music from Thalken\, Tesdall and&nbsp\;Thalken with Hird and Crocker Ed &quot\;Smooth Groves&quot\; Archibald Group\, and Kearney Jazz Society.</span>
LOCATION:Buffalo County Fairgrounds Expo Building
UID:e.1404.6211
SEQUENCE:3
DTSTAMP:20260422T182501Z
URL:https://chambermaster.kearneycoc.org/events/details/jazz-wine-festival-05-09-2015-6211
END:VEVENT

END:VCALENDAR
