BEGIN:VCALENDAR
VERSION:2.0
PRODID:-//ChamberMaster//Event Calendar 2.0//EN
METHOD:PUBLISH
X-PUBLISHED-TTL:P3D
REFRESH-INTERVAL:P3D
CALSCALE:GREGORIAN
BEGIN:VEVENT
DTSTART:20160828T230000Z
DTEND:20160829T020000Z
X-MICROSOFT-CDO-ALLDAYEVENT:FALSE
SUMMARY:JJ5K
DESCRIPTION:UNK is proud to be a school that gives back to the community and beyond. Be a part of the giving culture by running for "something". Run for your favorite charity\, your favorite cause or someone special. Dress up to raise awareness for your cause\, run or walk the race\, and then get free Jimmy Johns (JJ) after the race. After the race\, check-out all the kearney has to offer in service organizations. This is the way to find an organization that fits you.
X-ALT-DESC;FMTTYPE=text/html:UNK is proud to be a school that gives back to the community and beyond. Be a part of the giving culture by running for &quot\;something&quot\;. Run for your favorite charity\, your favorite cause or someone special. Dress up to raise awareness for your cause\, run or walk the race\, and then get free&nbsp\;Jimmy Johns (JJ) after the race. After the race\, check-out all the kearney has to offer in service organizations. This is the way to find an organization that fits you.
LOCATION:University of Nebraska at Kearney\, The Fountain
UID:e.1404.8970
SEQUENCE:3
DTSTAMP:20260421T170104Z
URL:https://chambermaster.kearneycoc.org/events/details/jj5k-08-28-2016-8970
END:VEVENT

END:VCALENDAR
