BEGIN:VCALENDAR
VERSION:2.0
PRODID:-//ChamberMaster//Event Calendar 2.0//EN
METHOD:PUBLISH
X-PUBLISHED-TTL:P3D
REFRESH-INTERVAL:P3D
CALSCALE:GREGORIAN
BEGIN:VEVENT
DTSTART:20190611T170000Z
DTEND:20190611T180000Z
X-MICROSOFT-CDO-ALLDAYEVENT:FALSE
SUMMARY:Junior Achievement Board Meeting
DESCRIPTION:
X-ALT-DESC;FMTTYPE=text/html:
LOCATION:Kearney Area Chamber of Commerce Meeting Room 1007 2nd Ave Kearney NE
UID:e.1404.12497
SEQUENCE:3
DTSTAMP:20260426T003946Z
URL:https://chambermaster.kearneycoc.org/events/details/junior-achievement-board-meeting-12497
END:VEVENT

END:VCALENDAR
