BEGIN:VCALENDAR
VERSION:2.0
PRODID:-//ChamberMaster//Event Calendar 2.0//EN
METHOD:PUBLISH
X-PUBLISHED-TTL:P3D
REFRESH-INTERVAL:P3D
CALSCALE:GREGORIAN
BEGIN:VEVENT
DTSTART:20220205T170000Z
DTEND:20220205T220000Z
X-MICROSOFT-CDO-ALLDAYEVENT:FALSE
SUMMARY:Junior Achievement Bowl-A-Thon
DESCRIPTION:Junior Achievement of Kearney is hosting our 6th annual Bowl-A-Thon! You do not want to miss this day of fun and raising money for students in the Kearney community! The JA Bowl-A-Thon is a one-of-a-kind team-building event for your company\, giving employees the opportunity to work together\, strategize\, bowl\, and raise money for Junior Achievement of Kearney. Last year\, hundreds of bowlers and over 30 local companies participated\, raising over $18\,000 for JA programs.
X-ALT-DESC;FMTTYPE=text/html:Junior Achievement of Kearney is hosting our 6th annual Bowl-A-Thon! You do not want to miss this day of fun and raising money for students in the Kearney community! The JA Bowl-A-Thon is a one-of-a-kind team-building event for your company\, giving employees the opportunity to work together\, strategize\, bowl\, and raise money for Junior Achievement of Kearney. Last year\, hundreds of bowlers and over 30 local companies participated\, raising over $18\,000 for JA programs.&nbsp\;
LOCATION:Big Apple Fun Center
UID:e.1404.19624
SEQUENCE:3
DTSTAMP:20260423T180846Z
URL:https://chambermaster.kearneycoc.org/events/details/junior-achievement-bowl-a-thon-19624
END:VEVENT

END:VCALENDAR
