BEGIN:VCALENDAR
VERSION:2.0
PRODID:-//ChamberMaster//Event Calendar 2.0//EN
METHOD:PUBLISH
X-PUBLISHED-TTL:P3D
REFRESH-INTERVAL:P3D
CALSCALE:GREGORIAN
BEGIN:VEVENT
DTSTART:20130730T223000Z
DTEND:20130730T233000Z
X-MICROSOFT-CDO-ALLDAYEVENT:FALSE
SUMMARY:Junior Achievement Kearney - Volunteer Meeting
DESCRIPTION:Junior Achievement is growing in Kearney and we are excited!\n\n	\n\n	First\, because so many businesses and individuals contributed financially to make JA possible for the 2013-2014 school year!\n\n	\n\n	Our next goal now that the funds are raised\, is to fill our volunteer instructor positions. Windy Hills Elementary will be hosting JA this fall starting in early October. We will be in need of 12 volunteer instructors. Buffalo Hills will host JA in spring semester 2014 and will need 8 instructors.\n\n	\n\n	I hope you will consider being a JA classroom volunteer and to learn more about that\, we want to invite you to the following:\n\n	\n\n	JA Classroom Volunteer Informational Meeting\n\n	Tuesday\, July 30th\, 2013\n\n	Kearney Area Chamber of Commerce Board Room\n\n	5:30 to 6:30 pm\n\n	\n\n	What will we cover?\n\n	Basics of being a classroom volunteer instructor\n\n	Time commitment in classroom and preparation\n\n	How we will match you the volunteer to the classroom and teacher\n\n	And all other questions you might have!\n\n	\n\n	Please join us\, and feel free to bring other business associates who might be interested.\n\n	Thanks!\n\n	\n\n	Jan Rodehorst and Leslie Means\n\n	Jan 440-0952 jan@kearneyrv.com\n\n	Leslie 237-3101 lmeans@kearneycoc.org\n\n	Contact Leslie at 237-3101 to RSVP
X-ALT-DESC;FMTTYPE=text/html:<div>\n	<strong>Junior Achievement is growing in Kearney and we are excited!</strong></div>\n<div>\n	<br />\n	First\, because so many businesses and individuals contributed financially to make JA possible for the 2013-2014 school year!</div>\n<div>\n	<br />\n	Our next goal now that the funds are raised\, is to fill our volunteer instructor positions. Windy Hills Elementary will be hosting JA this fall&mdash\;starting in early October. We will be in need of 12 volunteer instructors. Buffalo Hills will host JA in spring semester 2014 and will need 8 instructors.</div>\n<div>\n	<br />\n	I hope you will consider being a JA classroom volunteer and to learn more about that\, we want to invite you to the following:</div>\n<div>\n	<br />\n	JA Classroom Volunteer Informational Meeting</div>\n<div>\n	Tuesday\, July 30th\, 2013</div>\n<div>\n	Kearney Area Chamber of Commerce Board Room</div>\n<div>\n	5:30 to 6:30 pm</div>\n<div>\n	<br />\n	<strong>What will we cover?</strong></div>\n<div>\n	Basics of being a classroom volunteer instructor</div>\n<div>\n	Time commitment&mdash\;in classroom and preparation</div>\n<div>\n	How we will match you the volunteer to the classroom and teacher</div>\n<div>\n	And all other questions you might have!</div>\n<div>\n	<br />\n	Please join us\, and feel free to bring other business associates who might be interested.</div>\n<div>\n	Thanks!<br />\n	<br />\n	Jan Rodehorst and Leslie Means</div>\n<div>\n	Jan&mdash\;440-0952 jan@kearneyrv.com</div>\n<div>\n	Leslie&mdash\;237-3101 lmeans@kearneycoc.org</div>\n<div>\n	Contact Leslie at 237-3101 to RSVP</div>\n
LOCATION:
UID:e.1404.3259
SEQUENCE:3
DTSTAMP:20260424T081712Z
URL:https://chambermaster.kearneycoc.org/events/details/junior-achievement-kearney-volunteer-meeting-07-30-2013-3259
END:VEVENT

END:VCALENDAR
