BEGIN:VCALENDAR
VERSION:2.0
PRODID:-//ChamberMaster//Event Calendar 2.0//EN
METHOD:PUBLISH
X-PUBLISHED-TTL:P3D
REFRESH-INTERVAL:P3D
CALSCALE:GREGORIAN
BEGIN:VEVENT
DTSTART:20160831T170000Z
DTEND:20160831T180000Z
X-MICROSOFT-CDO-ALLDAYEVENT:FALSE
SUMMARY:Junior Achievement Volunteer Teacher Training
DESCRIPTION:For any new Junior Achievement volunteer teacher or anyone interested in learning more about volunteering for JA\, come listen to how it all works.
X-ALT-DESC;FMTTYPE=text/html:For any new Junior Achievement volunteer teacher or anyone interested in learning more about volunteering for JA\, come listen to how it all works.&nbsp\;
LOCATION:Kearney Chamber Board Room 1007 2nd Ave
UID:e.1404.8988
SEQUENCE:3
DTSTAMP:20260421T184434Z
URL:https://chambermaster.kearneycoc.org/events/details/junior-achievement-volunteer-teacher-training-8988
END:VEVENT

END:VCALENDAR
