BEGIN:VCALENDAR
VERSION:2.0
PRODID:-//ChamberMaster//Event Calendar 2.0//EN
METHOD:PUBLISH
X-PUBLISHED-TTL:P3D
REFRESH-INTERVAL:P3D
CALSCALE:GREGORIAN
BEGIN:VEVENT
DTSTART:20140422T133000Z
DTEND:20140422T143000Z
X-MICROSOFT-CDO-ALLDAYEVENT:FALSE
SUMMARY:KAAPA Ethanol Presentation + Ag Meeting. Free Breakfast
DESCRIPTION:KAAPA Ethanol Presentation + Agriculture Meeting\n\nPresented By:  Chuck Woodside\n\nFree Breakfast provided by Town and Country Bank\n\nOpen to all chamber members
X-ALT-DESC;FMTTYPE=text/html:KAAPA Ethanol Presentation + Agriculture Meeting<br />\nPresented By:&nbsp\; Chuck Woodside<br />\nFree Breakfast provided by Town and Country Bank<br />\nOpen to all chamber members
LOCATION:Kearney Area Chamber of Commerce Board Room 1007 Second Ave.
UID:e.1404.4683
SEQUENCE:3
DTSTAMP:20260423T164059Z
URL:https://chambermaster.kearneycoc.org/events/details/kaapa-ethanol-presentation-ag-meeting-free-breakfast-04-22-2014-4683
END:VEVENT

END:VCALENDAR
