BEGIN:VCALENDAR
VERSION:2.0
PRODID:-//ChamberMaster//Event Calendar 2.0//EN
METHOD:PUBLISH
X-PUBLISHED-TTL:P3D
REFRESH-INTERVAL:P3D
CALSCALE:GREGORIAN
BEGIN:VEVENT
DTSTART:20210201T230000Z
DTEND:20210202T030000Z
X-MICROSOFT-CDO-ALLDAYEVENT:FALSE
SUMMARY:KACC 102nd Annual Meeting
DESCRIPTION:We are excited to be hosting our 102nd Annual Meeting virtually\, on Monday\, February 1\, 2021. Annual Meeting will look a little different than it has previously\, but attendees can expect an equally delightful and exciting experience. You will receive the latest news from the Chamber\, hear from a keynote speaker\, enjoy a delicious meal from Younes Hospitality\, and celebrate businesses and individuals in our community.\n\nFor more information\, visit our website: www.kearneycoc.org/annual-meeting
X-ALT-DESC;FMTTYPE=text/html:<p style="margin: 0px\; padding: 0px\; color: rgb(111\, 114\, 135)\; font-size: 16px\; line-height: 1.5rem\; font-family: &quot\;Neue Plak&quot\;\, -apple-system\, system-ui\, Roboto\, &quot\;Helvetica Neue&quot\;\, Helvetica\, Tahoma\, Arial\, sans-serif\; letter-spacing: 0.5px\;">We are excited to be hosting our 102nd Annual Meeting virtually\, on Monday\, February 1\, 2021. Annual Meeting will look a little different than it has previously\, but attendees can expect an equally delightful and exciting experience. You will receive the latest news from the Chamber\, hear from a keynote speaker\, enjoy a delicious meal from Younes Hospitality\, and celebrate businesses and individuals in our community.</p>\n\n<p style="margin: 0px\; padding: 10px 0px 0px\; color: rgb(111\, 114\, 135)\; font-size: 16px\; line-height: 1.5rem\; font-family: &quot\;Neue Plak&quot\;\, -apple-system\, system-ui\, Roboto\, &quot\;Helvetica Neue&quot\;\, Helvetica\, Tahoma\, Arial\, sans-serif\; letter-spacing: 0.5px\;">For more information\, visit our website:&nbsp\;<a href="https://www.kearneycoc.org/annual-meeting" rel="nofollow noopener noreferrer" style="color: var(--eds-control\,#3659e3)\; text-decoration-line: none\; cursor: pointer\; background-color: transparent\; padding-top: 0px\;" target="_blank">www.kearneycoc.org/annual-meeting</a></p>\n
LOCATION:ONLINE
UID:e.1404.18729
SEQUENCE:3
DTSTAMP:20260424T155836Z
URL:https://chambermaster.kearneycoc.org/events/details/kacc-102nd-annual-meeting-18729
END:VEVENT

END:VCALENDAR
