BEGIN:VCALENDAR
VERSION:2.0
PRODID:-//ChamberMaster//Event Calendar 2.0//EN
METHOD:PUBLISH
X-PUBLISHED-TTL:P3D
REFRESH-INTERVAL:P3D
CALSCALE:GREGORIAN
BEGIN:VEVENT
DTSTART:20141114T180000Z
DTEND:20141114T190000Z
X-MICROSOFT-CDO-ALLDAYEVENT:FALSE
SUMMARY:KACC Agriculture Committee Meeting
DESCRIPTION:Agriculture Committee will meet from 12:00 pm - 1:00 pm in the Chamber Board Room. Lunch will be provided by First National Bank. \n\nPlease RSVP by Nov. 12\, 2014!\n\n\n\nThe Agriculture Committee's purpose is to provide and support programs which promote agriculture and encourage urban/rural cooperation. Some of the programs the Agriculture Committee is currently tied to are the Nebraska Cattlemen's Classic\, Gateway Farm Expo\, Buffalo County 4-H\, Nebraska Livestock Judging Classic as well as educational meetings. \n\n\n\nThis committee is open to all Kearney Area Chamber members. To inquire about joining this group\, contact Shanna Schulte at sschulte@kearneycoc.org or join us for one of our meetings.
X-ALT-DESC;FMTTYPE=text/html:Agriculture Committee will meet from&nbsp\;12:00 pm - 1:00 pm in the Chamber Board Room.&nbsp\;Lunch will be provided by First National Bank.&nbsp\;<br />\nPlease RSVP by Nov. 12\, 2014!<br />\n<br />\nThe Agriculture Committee&#39\;s purpose is to provide and support programs which promote agriculture and encourage urban/rural cooperation. Some of the programs the Agriculture Committee is currently tied to are the Nebraska Cattlemen&#39\;s Classic\, Gateway Farm Expo\, Buffalo County 4-H\, Nebraska Livestock Judging Classic as well as educational meetings.&nbsp\;<br />\n<br />\nThis committee is open to all Kearney Area Chamber members. To inquire about joining this group\, contact Shanna Schulte at&nbsp\;<a href="mailto:sschulte@kearneycoc.org" target="_blank">sschulte@kearneycoc.org</a>&nbsp\;or join us for one of our meetings.&nbsp\;
LOCATION:
UID:e.1404.5402
SEQUENCE:3
DTSTAMP:20260423T070107Z
URL:https://chambermaster.kearneycoc.org/events/details/kacc-agriculture-committee-meeting-11-14-2014-5402
END:VEVENT

END:VCALENDAR
