BEGIN:VCALENDAR
VERSION:2.0
PRODID:-//ChamberMaster//Event Calendar 2.0//EN
METHOD:PUBLISH
X-PUBLISHED-TTL:P3D
REFRESH-INTERVAL:P3D
CALSCALE:GREGORIAN
BEGIN:VEVENT
DTSTART:20141211T230000Z
DTEND:20141212T020000Z
X-MICROSOFT-CDO-ALLDAYEVENT:FALSE
SUMMARY:KACC Annual Holiday Reception
DESCRIPTION:Please join us at The Archway as we celebrate the holidays and another great year at the Chamber!  We will have fantastic food and a couple drinks catered by The Cellar Bar & Grill.\n\n \n\nThe Archway\n\n3060 E 1st\n\nKearney\, NE\n\n\n\n*Please note that this event is for Kearney Area Chamber Members.  For further information on membership\, or joining us as a guest\, please call our office at 237-3101.
X-ALT-DESC;FMTTYPE=text/html:<span style="font-family:tahoma\;">Please join us at The Archway as we celebrate the holidays and another great year at the Chamber!</span>&nbsp\; We will have fantastic food and a couple drinks catered by The Cellar Bar &amp\; Grill.<br />\n&nbsp\;<br />\n<span style="line-height: 20.7999992370605px\;">The Archway</span><br style="line-height: 20.7999992370605px\;" />\n<span style="line-height: 20.7999992370605px\;">3060 E&nbsp\;</span>1st<br style="line-height: 20.7999992370605px\;" />\n<span style="line-height: 20.7999992370605px\;">Kearney\, NE</span><br />\n<br />\n<span style="line-height: 20.7999992370605px\;">*Please note that this event is for Kearney Area Chamber Members.&nbsp\; For further information on membership\, or joining us as a guest\, please call our office at 237-3101.&nbsp\;</span>
LOCATION:
UID:e.1404.5300
SEQUENCE:3
DTSTAMP:20260423T034141Z
URL:https://chambermaster.kearneycoc.org/events/details/kacc-annual-holiday-reception-12-11-2014-5300
END:VEVENT

END:VCALENDAR
