BEGIN:VCALENDAR
VERSION:2.0
PRODID:-//ChamberMaster//Event Calendar 2.0//EN
METHOD:PUBLISH
X-PUBLISHED-TTL:P3D
REFRESH-INTERVAL:P3D
CALSCALE:GREGORIAN
BEGIN:VEVENT
DTSTART:20160125T233000Z
DTEND:20160126T030000Z
X-MICROSOFT-CDO-ALLDAYEVENT:FALSE
SUMMARY:KACC Annual Meeting
DESCRIPTION:Chamber of Commerce\n\nAnnual Meeting
X-ALT-DESC;FMTTYPE=text/html:Chamber of Commerce<br />\nAnnual Meeting
LOCATION:Younes Conference Center
UID:e.1404.6691
SEQUENCE:3
DTSTAMP:20260422T052029Z
URL:https://chambermaster.kearneycoc.org/events/details/kacc-annual-meeting-01-25-2016-6691
END:VEVENT

END:VCALENDAR
