BEGIN:VCALENDAR
VERSION:2.0
PRODID:-//ChamberMaster//Event Calendar 2.0//EN
METHOD:PUBLISH
X-PUBLISHED-TTL:P3D
REFRESH-INTERVAL:P3D
CALSCALE:GREGORIAN
BEGIN:VEVENT
DTSTART:20141113T180000Z
DTEND:20141113T190000Z
X-MICROSOFT-CDO-ALLDAYEVENT:FALSE
SUMMARY:KACC Hospitality Committee Meeting
DESCRIPTION:Presenter at this month's Hospitality Committee Meeting will be Kristi Hayek Carley with Nebraska Chautauqua\, who will fill us in on the event planned for June 2015! We hope you can make it!\n\n\n\nChair: Denise Christensen - Merryman Performing Arts Center\n\nVice Chair:  Kelly Krier - Kearney Accommodations\n\nMeeting Schedule: 2nd Thursday of each month at Noon\nThe Kearney Hospitality Committee's purpose is to increase the number of visitors to Kearney by marketing retail and tourism opportunities for conventions\, festivals and special events.\n\n\n\nThe Kearney Hospitality Group does this by assisting other Chamber Committees with facilitating marketing communication of the Kearney area and providing input to the Kearney Visitor's Bureau.\n\n\n\nThis committee is open to all Kearney Chamber Members. To inquire about joining this group\, contact Shanna Schulte at sschulte@kearneycoc.org\, Patty Candy at pcandy@visitkearney.org or join us for one of our meetings.
X-ALT-DESC;FMTTYPE=text/html:<div style="color: rgb(0\, 0\, 0)\; font-family: Helvetica\, Arial\, sans-serif\;">\n<p><b>Presenter at this month&#39\;s Hospitality Committee Meeting will be Kristi Hayek Carley with Nebraska Chautauqua\, who will fill us in on the event planned for June 2015! We hope you can make it!<br />\n<br />\nChair:&nbsp\;</b>Denise Christensen -&nbsp\;Merryman&nbsp\;Performing Arts Center<br />\n<font size="2"><b>Vice Chair: &nbsp\;</b>Kelly&nbsp\;Krier&nbsp\;- Kearney Accommodations</font><br />\n<b>Meeting Schedule:</b>&nbsp\;2nd&nbsp\;Thursday of each month at Noon</p>\nThe Kearney Hospitality Committee&#39\;s purpose is to increase the number of visitors to Kearney by marketing retail and tourism opportunities for conventions\, festivals and special events.<br />\n<br />\nThe Kearney Hospitality Group does this by assisting other Chamber Committees with facilitating marketing communication of the Kearney area and providing input to the Kearney Visitor&#39\;s Bureau.<br />\n<br />\nThis committee is open to all Kearney Chamber Members. To inquire about joining this group\, contact&nbsp\;Shanna Schulte&nbsp\;at&nbsp\;<a href="mailto:lmeans@kearneycoc.org" style="color: rgb(0\, 51\, 102)\; text-decoration: none\;">sschulte@kearneycoc.org</a>\, Patty Candy at&nbsp\;<a href="mailto:pcandy@visitkearney.org" style="color: rgb(0\, 51\, 102)\; text-decoration: none\;">pcandy@visitkearney.org</a>&nbsp\;or join us for one of our meetings.&nbsp\;</div>\n
LOCATION:Kearney Area Chamber of Commerce Board Room
UID:e.1404.5408
SEQUENCE:3
DTSTAMP:20260423T052955Z
URL:https://chambermaster.kearneycoc.org/events/details/kacc-hospitality-committee-meeting-11-13-2014-5408
END:VEVENT

END:VCALENDAR
