BEGIN:VCALENDAR
VERSION:2.0
PRODID:-//ChamberMaster//Event Calendar 2.0//EN
METHOD:PUBLISH
X-PUBLISHED-TTL:P3D
REFRESH-INTERVAL:P3D
CALSCALE:GREGORIAN
BEGIN:VEVENT
DTSTART:20220715T140000Z
DTEND:20220715T180000Z
X-MICROSOFT-CDO-ALLDAYEVENT:FALSE
SUMMARY:KACM Golf Tournament
DESCRIPTION:Join us for a fun day of golf supporting the mission of the Kearney Area Children's Museum! \n\nPlease choose:\n\n10 am 9 hole Adult Child Golf Tournament    Register Here for 10AM golf!\n\nor\n\n12 pm 9 hole Adult Child Footgolf Tournament   Register Here for 12pm Footgolf!\n\n \n\nLunch will be served for both tournaments at 12 pm\n\n \n\nIt is first come\, first serve for carts at Elks Golf Club that morning. ($18/cart for a team of 2)\n\nYou are welcome to bring your own cart!\n\n \n\nMulligans available at the event check in   2 team mulligans for $20
X-ALT-DESC;FMTTYPE=text/html:<div><strong>Join us for a fun day of golf supporting the mission of the Kearney Area Children&rsquo\;s Museum!&nbsp\;</strong></div>\n\n<div><strong>Please choose:</strong></div>\n\n<div><strong>10 am 9 hole Adult Child Golf Tournament&nbsp\; &ndash\;&nbsp\;<a href="https://sales.kearneychildrensmuseum.org/performance.aspx?pid=33581" style="box-sizing: border-box\; background-color: transparent\; color: var(--tec-color-link-accent)\; text-decoration-line: none\; outline: none\; transition: all 0.14s ease 0s\; word-break: break-all\;">Register Here for 10AM golf!</a></strong></div>\n\n<div><strong>or</strong></div>\n\n<div><strong>12 pm 9 hole Adult Child Footgolf Tournament &ndash\;&nbsp\;<a href="https://sales.kearneychildrensmuseum.org/performance.aspx?pid=33583" style="box-sizing: border-box\; background-color: transparent\; color: var(--tec-color-link-accent)\; text-decoration-line: none\; outline: none\; transition: all 0.14s ease 0s\; word-break: break-all\;">Register Here for 12pm Footgolf!</a></strong></div>\n\n<div>&nbsp\;</div>\n\n<div><strong>Lunch will be served for both tournaments at 12 pm</strong></div>\n\n<div>&nbsp\;</div>\n\n<div><strong>It is first come\, first serve for carts at Elks Golf Club that morning. ($18/cart for a team of 2)</strong></div>\n\n<div><strong>You are welcome to bring your own cart!</strong></div>\n\n<div>&nbsp\;</div>\n\n<div><strong>Mulligans available at the event check in &ndash\; 2 team mulligans for $20</strong></div>\n
LOCATION:
UID:e.1404.19963
SEQUENCE:3
DTSTAMP:20260421T132346Z
URL:https://chambermaster.kearneycoc.org/events/details/kacm-golf-tournament-19963
END:VEVENT

END:VCALENDAR
