BEGIN:VCALENDAR
VERSION:2.0
PRODID:-//ChamberMaster//Event Calendar 2.0//EN
METHOD:PUBLISH
X-PUBLISHED-TTL:P3D
REFRESH-INTERVAL:P3D
CALSCALE:GREGORIAN
BEGIN:VEVENT
DTSTART:20190516T210000Z
DTEND:20190517T010000Z
X-MICROSOFT-CDO-ALLDAYEVENT:FALSE
SUMMARY:KACM Remix: 30th Birthday Celebration and Free Family Fun Night
DESCRIPTION:Join us for a totally tubular night at the museum as we take it back to the 80's for our 30th birthday! This event is part of our monthly Free Family Fun Nights so your family can visit and enjoy FREE admission. We encourage everyone to dress in their favorite 1980's gear of a New Kids t-shirt\, side pony tails\, white-washed denim with pleats\, or wind pants!\n\nCake reception to celebrate and honor the life of Alia Joy Arram will take place at 5:15pm. This event is sponsored by Trius Federal Credit Union.\n\nActivities include:\n\nPhoto booth   sponsored by Snap-A-Memory\n\nFace Painting   provided by Trius Federal Credit Union\n\nCharm Necklaces or Bracelets   provided by KACM\n\nT-shirt Creation Station   purchase and create a sweet t-shirt with Sayler Screenprinting.\n\nIce Cream Trolley   purchase ice cream from Anna Street Trolley! Proceeds benefit KACM.
X-ALT-DESC;FMTTYPE=text/html:<p>Join us for a totally tubular night at the museum as we take it back to the 80&rsquo\;s for our 30th birthday! This event is part of our monthly Free Family Fun Nights so your family can visit and enjoy FREE admission. We encourage everyone to dress in their favorite 1980&rsquo\;s gear of a New Kids t-shirt\, side pony tails\, white-washed denim with pleats\, or wind pants!<br />\nCake reception to celebrate and honor the life of Alia Joy Arram will take place at 5:15pm. This event is sponsored by Trius Federal Credit Union.</p>\n\n<p>Activities include:<br />\nPhoto booth &ndash\; sponsored by Snap-A-Memory<br />\nFace Painting &ndash\; provided by Trius Federal Credit Union<br />\nCharm Necklaces or Bracelets &ndash\; provided by KACM<br />\nT-shirt Creation Station &ndash\; purchase and create a sweet t-shirt with Sayler Screenprinting.<br />\nIce Cream Trolley &ndash\; purchase ice cream from Anna Street Trolley! Proceeds benefit KACM.</p>\n
LOCATION:Kearney Area Children's Museum The Alia Arram Memorial Building 5824 4th Ave\, Kearney\, NE 68845
UID:e.1404.15959
SEQUENCE:3
DTSTAMP:20260426T022435Z
URL:https://chambermaster.kearneycoc.org/events/details/kacm-remix-30th-birthday-celebration-and-free-family-fun-night-15959
END:VEVENT

END:VCALENDAR
