BEGIN:VCALENDAR
VERSION:2.0
PRODID:-//ChamberMaster//Event Calendar 2.0//EN
METHOD:PUBLISH
X-PUBLISHED-TTL:P3D
REFRESH-INTERVAL:P3D
CALSCALE:GREGORIAN
BEGIN:VEVENT
DTSTART:20150411T190000Z
DTEND:20150411T210000Z
X-MICROSOFT-CDO-ALLDAYEVENT:FALSE
SUMMARY:Kearney Area Barbershoppers Annual Show
DESCRIPTION:43rd Annual Show by the 1733 Chorus\, with a theme of "Unforgettable"\n\nSpecial guests are McPhly\, also featuring Patent Pending\, Just 4 Fun\, and Habitat 4 Harmony\n\nPre-show entertainment by the Midland Pride Sweet Adeline Chorus
X-ALT-DESC;FMTTYPE=text/html:43rd Annual Show by the 1733 Chorus\, with a theme of &quot\;Unforgettable&quot\;<br />\nSpecial guests are McPhly\, also featuring Patent Pending\, Just 4 Fun\, and Habitat 4 Harmony<br />\nPre-show entertainment by the Midland Pride Sweet Adeline Chorus
LOCATION:Kearney Senior High School Auditorium
UID:e.1404.6154
SEQUENCE:3
DTSTAMP:20260422T200254Z
URL:https://chambermaster.kearneycoc.org/events/details/kearney-area-barbershoppers-annual-show-04-11-2015-6154
END:VEVENT

END:VCALENDAR
