BEGIN:VCALENDAR
VERSION:2.0
PRODID:-//ChamberMaster//Event Calendar 2.0//EN
METHOD:PUBLISH
X-PUBLISHED-TTL:P3D
REFRESH-INTERVAL:P3D
CALSCALE:GREGORIAN
BEGIN:VEVENT
DTSTART:20160921T000000Z
DTEND:20160921T020000Z
X-MICROSOFT-CDO-ALLDAYEVENT:FALSE
SUMMARY:Kearney Area Entrepreneurs Meeting
DESCRIPTION:Join us at 7:00 pm at Mac's Creek Wine Bar to learn about business entity structure (LLC\, Sole Proprietor\, ect...) and get in some networking! Also\, BONUS: Mac's Creek has generously offered to give each attendee a $5 wine card to try some of their tasty wines!
X-ALT-DESC;FMTTYPE=text/html:<span class="_4n-j fsl">Join us at 7:00 pm at <a aria-controls="js_e" aria-describedby="js_f" aria-haspopup="true" data-hovercard="/ajax/hovercard/page.php?id=436208126574208&amp\;extragetparams=%7B%22directed_target_id%22%3A1633485206981693%7D" href="https://www.facebook.com/macscreekbar/" id="js_g" role="">Mac&#39\;s Creek Wine Bar</a> to learn about business entity structure (LLC\, Sole Proprietor\, ect...) and get in some networking! Also\, BONUS: Mac&#39\;s Creek has generously offered to give each attendee a $5 wine card to try some of their tasty wines!</span>
LOCATION:Mac's Creek Wine Bar 43315 Rd 757 Lexington\, NE
UID:e.1404.9022
SEQUENCE:3
DTSTAMP:20260421T171659Z
URL:https://chambermaster.kearneycoc.org/events/details/kearney-area-entrepreneurs-meeting-9022
END:VEVENT

END:VCALENDAR
