BEGIN:VCALENDAR
VERSION:2.0
PRODID:-//ChamberMaster//Event Calendar 2.0//EN
METHOD:PUBLISH
X-PUBLISHED-TTL:P3D
REFRESH-INTERVAL:P3D
CALSCALE:GREGORIAN
BEGIN:VEVENT
DTSTART:20160720T000000Z
DTEND:20160720T020000Z
X-MICROSOFT-CDO-ALLDAYEVENT:FALSE
SUMMARY:Kearney Area Entreprenuers
DESCRIPTION:Kearney Area Entrepreneurs is a group with a mission to provide an environment of support and inspiration for entrepreneurs in the Kearney area by offering education\, networking and opportunities to create positive and lucrative partnerships. Our first meeting will be about non traditional marketing\, and will be a fun way to learn and meet other local entrepreneurs.
X-ALT-DESC;FMTTYPE=text/html:Kearney Area Entrepreneurs is a group with a mission to&nbsp\;<span style="font-family:arial\,sans-serif\;">provide an environment of support and inspiration for entrepreneurs in the Kearney area by offering education\, networking and opportunities to create positive and lucrative partnerships.&nbsp\;Our first meeting will be about non traditional marketing\, and will be a fun way to learn and meet other local entrepreneurs.</span>
LOCATION:Kearney Area Chamber of Commerce Board Room 1007 2nd Avenue
UID:e.1404.8926
SEQUENCE:3
DTSTAMP:20260421T190023Z
URL:https://chambermaster.kearneycoc.org/events/details/kearney-area-entreprenuers-07-19-2016-8926
END:VEVENT

END:VCALENDAR
