BEGIN:VCALENDAR
VERSION:2.0
PRODID:-//ChamberMaster//Event Calendar 2.0//EN
METHOD:PUBLISH
X-PUBLISHED-TTL:P3D
REFRESH-INTERVAL:P3D
CALSCALE:GREGORIAN
BEGIN:VEVENT
DTSTART:20211204T000000Z
DTEND:20211204T010000Z
X-MICROSOFT-CDO-ALLDAYEVENT:FALSE
SUMMARY:Kearney Area Habitat for Humanity - Erpelding Family Home Dedication
DESCRIPTION:Kearney Area Habitat for Humanity would like to invite the community to the Dedication of the Erpelding Family Home at 1405 E. 17th Street in Kearney.
X-ALT-DESC;FMTTYPE=text/html:Kearney Area Habitat for Humanity would like to invite the community to the Dedication of the Erpelding Family Home at 1405 E. 17th Street in Kearney.
LOCATION:1405 E. 17th Street in Kearney.
UID:e.1404.19464
SEQUENCE:3
DTSTAMP:20260423T215253Z
URL:https://chambermaster.kearneycoc.org/events/details/kearney-area-habitat-for-humanity-erpelding-family-home-dedication-19464
END:VEVENT

END:VCALENDAR
