BEGIN:VCALENDAR
VERSION:2.0
PRODID:-//ChamberMaster//Event Calendar 2.0//EN
METHOD:PUBLISH
X-PUBLISHED-TTL:P3D
REFRESH-INTERVAL:P3D
CALSCALE:GREGORIAN
BEGIN:VEVENT
DTSTART:20160929T140000Z
DTEND:20160929T150000Z
X-MICROSOFT-CDO-ALLDAYEVENT:FALSE
SUMMARY:Kearney Catholic New Classroom Blessing
DESCRIPTION:In conjunction with Kearney Catholic's Grandparents and Special Friends Day\, Bishop Dendinger will be attending to bless the six new classrooms that were built at Kearney Catholic through the Moving Forward in Faith Capital Campaign.
X-ALT-DESC;FMTTYPE=text/html:In conjunction with Kearney Catholic&#39\;s Grandparents and Special Friends Day\, Bishop Dendinger will be attending to bless the six new classrooms that were built at Kearney Catholic through the Moving Forward in Faith Capital Campaign.
LOCATION:St James Catholic Church 3801 A Avenue\, Kearney
UID:e.1404.9047
SEQUENCE:3
DTSTAMP:20260421T153024Z
URL:https://chambermaster.kearneycoc.org/events/details/kearney-catholic-new-classroom-blessing-9047
END:VEVENT

END:VCALENDAR
