BEGIN:VCALENDAR
VERSION:2.0
PRODID:-//ChamberMaster//Event Calendar 2.0//EN
METHOD:PUBLISH
X-PUBLISHED-TTL:P3D
REFRESH-INTERVAL:P3D
CALSCALE:GREGORIAN
BEGIN:VEVENT
DTSTART:20140224T013000Z
DTEND:20140224T033000Z
X-MICROSOFT-CDO-ALLDAYEVENT:FALSE
SUMMARY:Kearney Concert Association "Charlie Albright"
DESCRIPTION:Charlie Albright is a young pianist who was the winner of the prestigious 2012 Gilmore Young Artist Award and the 2009 Young Concert Artists International Auditions.
X-ALT-DESC;FMTTYPE=text/html:Charlie Albright is a young pianist who was the winner of the prestigious 2012 Gilmore Young Artist Award and the 2009 Young Concert Artists International Auditions.
LOCATION:Merryman Performing Arts Center\, 225 W. 25th Street
UID:e.1404.3359
SEQUENCE:3
DTSTAMP:20260423T195707Z
URL:https://chambermaster.kearneycoc.org/events/details/kearney-concert-association-charlie-albright-02-23-2014-3359
END:VEVENT

END:VCALENDAR
