BEGIN:VCALENDAR
VERSION:2.0
PRODID:-//ChamberMaster//Event Calendar 2.0//EN
METHOD:PUBLISH
X-PUBLISHED-TTL:P3D
REFRESH-INTERVAL:P3D
CALSCALE:GREGORIAN
BEGIN:VEVENT
DTSTART:20160928T003000Z
DTEND:20160928T023000Z
X-MICROSOFT-CDO-ALLDAYEVENT:FALSE
SUMMARY:Kearney Concert Association - Dallas Brass
DESCRIPTION:The Dallas Brass\, one of America's foremost musical ensembles\, has established a unique blend of traditional brass instruments plus a full complement of drums and percussion\, performing with extraordinary range and incredible virtuosity.  Their repertoire includes classical masterpieces\, Dixieland\, swing\, Broadway\, Hollywood and patriotic music.  The ensemble has performed at Carnegie Hall\, the Kennedy Center\, the White House\, and overseas in Europe and the Far East.
X-ALT-DESC;FMTTYPE=text/html:The Dallas Brass\, one of America&#39\;s foremost musical ensembles\, has established a unique blend of traditional brass instruments plus a full complement of drums and percussion\, performing with extraordinary range and incredible virtuosity. &nbsp\;Their repertoire includes classical masterpieces\, Dixieland\, swing\, Broadway\, Hollywood and patriotic music. &nbsp\;The ensemble has performed at Carnegie Hall\, the Kennedy Center\, the White House\, and overseas in Europe and the Far East.
LOCATION:Merryman Performing Arts Center
UID:e.1404.8958
SEQUENCE:3
DTSTAMP:20260421T155307Z
URL:https://chambermaster.kearneycoc.org/events/details/kearney-concert-association-dallas-brass-09-27-2016-8958
END:VEVENT

END:VCALENDAR
