BEGIN:VCALENDAR
VERSION:2.0
PRODID:-//ChamberMaster//Event Calendar 2.0//EN
METHOD:PUBLISH
X-PUBLISHED-TTL:P3D
REFRESH-INTERVAL:P3D
CALSCALE:GREGORIAN
BEGIN:VEVENT
DTSTART:20140505T003000Z
DTEND:20140505T023000Z
X-MICROSOFT-CDO-ALLDAYEVENT:FALSE
SUMMARY:Kearney Concert Association "Gregg Edelman"
DESCRIPTION:Baritone vocalist who is a four-time Tony Award nominee and star of Broadway. He appeared in 15 Broadway musicals and several Hollywood films.
X-ALT-DESC;FMTTYPE=text/html:Baritone vocalist who is a four-time Tony Award nominee and star of Broadway. He appeared in 15 Broadway musicals and several Hollywood films.
LOCATION:Merryman Performing Arts Center\, 225 W. 22nd Street
UID:e.1404.3361
SEQUENCE:3
DTSTAMP:20260423T151108Z
URL:https://chambermaster.kearneycoc.org/events/details/kearney-concert-association-gregg-edelman-05-04-2014-3361
END:VEVENT

END:VCALENDAR
