BEGIN:VCALENDAR
VERSION:2.0
PRODID:-//ChamberMaster//Event Calendar 2.0//EN
METHOD:PUBLISH
X-PUBLISHED-TTL:P3D
REFRESH-INTERVAL:P3D
CALSCALE:GREGORIAN
BEGIN:VEVENT
DTSTART:20160313T013000Z
DTEND:20160313T033000Z
X-MICROSOFT-CDO-ALLDAYEVENT:FALSE
SUMMARY:Kearney Concert Association - Robert Sims
DESCRIPTION:Lyric baritone Robert Sims\, the Gold Medal winner of the American Traditions Competition\, has been hailed by critics for his rich tone\, energetic performances and incredible stage presence and has emerged as this generation's spiritual specialist.  Additionally\, his program will include great American standards by Irving Berlin\, the Gershwins\, Rodgers and Hammerstein\, Jerome Kern\, and Aaron Copeland.  Sims has delighted audiences throughout the world with his powerful voice and performance.
X-ALT-DESC;FMTTYPE=text/html:Lyric baritone Robert Sims\, the Gold Medal winner of the American Traditions Competition\, has been hailed by critics for his rich tone\, energetic performances and incredible stage presence and has emerged&nbsp\;as this generation&#39\;s spiritual specialist. &nbsp\;Additionally\, his program will include great American standards by Irving Berlin\, the Gershwins\, Rodgers and Hammerstein\, Jerome Kern\, and Aaron Copeland. &nbsp\;Sims has delighted audiences throughout the world with his powerful voice and performance.
LOCATION:Merryman Performing Arts Center
UID:e.1404.6705
SEQUENCE:3
DTSTAMP:20260422T012304Z
URL:https://chambermaster.kearneycoc.org/events/details/kearney-concert-association-robert-sims-03-12-2016-6705
END:VEVENT

END:VCALENDAR
