BEGIN:VCALENDAR
VERSION:2.0
PRODID:-//ChamberMaster//Event Calendar 2.0//EN
METHOD:PUBLISH
X-PUBLISHED-TTL:P3D
REFRESH-INTERVAL:P3D
CALSCALE:GREGORIAN
BEGIN:VEVENT
DTSTART:20190503T003000Z
DTEND:20190503T020000Z
X-MICROSOFT-CDO-ALLDAYEVENT:FALSE
SUMMARY:Kearney Concert Association-Sons of Serendip
DESCRIPTION:Finalists on NBC's America's Got Talent\, Sons of Serendip\, with their stunning vocals and soulful interpretations of popular works combine classical\, jazz\, pop\, R&B and gospel in music that will touch the heart and lift the spirit.  This incredible quartet consists of a harpist\, cellist\, pianist and lead vocalist.
X-ALT-DESC;FMTTYPE=text/html:Finalists on NBC&#39\;s America&#39\;s Got Talent\, Sons of Serendip\, with their stunning vocals and soulful interpretations of popular works combine classical\, jazz\, pop\, R&amp\;B and gospel in music that will touch the heart and lift the spirit.&nbsp\; This incredible quartet consists of a harpist\, cellist\, pianist and lead vocalist.
LOCATION:Merryman Performing Arts 225 W. 22nd St.\, Kearney
UID:e.1404.12622
SEQUENCE:3
DTSTAMP:20260426T033529Z
URL:https://chambermaster.kearneycoc.org/events/details/kearney-concert-association-sons-of-serendip-12622
END:VEVENT

END:VCALENDAR
