BEGIN:VCALENDAR
VERSION:2.0
PRODID:-//ChamberMaster//Event Calendar 2.0//EN
METHOD:PUBLISH
X-PUBLISHED-TTL:P3D
REFRESH-INTERVAL:P3D
CALSCALE:GREGORIAN
BEGIN:VEVENT
DTSTART:20200207T013000Z
DTEND:20200207T030000Z
X-MICROSOFT-CDO-ALLDAYEVENT:FALSE
SUMMARY:Kearney Concert Association-Terry Barber Trio
DESCRIPTION:Programming both classical and popular favorites\, countertenor Terry Barber shows his huge vocal range\, singing from baritone to mezzo soprano. A former member of the Grammy-winning men's chorus "Chanticleer"\, Terry has performed with Madonna\, Jewel\, Chaka Khan\, Cyndi Lauper and others. Joining Terry will be a Juilliard-trained pianist and a wind soloist from the NY Philharmonic.
X-ALT-DESC;FMTTYPE=text/html:Programming both classical and popular favorites\, countertenor Terry Barber shows his huge vocal range\, singing from baritone to mezzo soprano. A former member of the Grammy-winning men&rsquo\;s chorus &ldquo\;Chanticleer&rdquo\;\, Terry has performed with Madonna\, Jewel\, Chaka Khan\, Cyndi Lauper and others. Joining Terry will be a Juilliard-trained pianist and a wind soloist from the NY Philharmonic.
LOCATION:Merryman Performing Arts Center 225 W 22nd Street Kearney NE
UID:e.1404.17868
SEQUENCE:3
DTSTAMP:20260425T114156Z
URL:https://chambermaster.kearneycoc.org/events/details/kearney-concert-association-terry-barber-trio-17868
END:VEVENT

END:VCALENDAR
