BEGIN:VCALENDAR
VERSION:2.0
PRODID:-//ChamberMaster//Event Calendar 2.0//EN
METHOD:PUBLISH
X-PUBLISHED-TTL:P3D
REFRESH-INTERVAL:P3D
CALSCALE:GREGORIAN
BEGIN:VEVENT
DTSTART:20161115T013000Z
DTEND:20161115T033000Z
X-MICROSOFT-CDO-ALLDAYEVENT:FALSE
SUMMARY:Kearney Concert Association - Vancouver Chamber Choir
DESCRIPTION:The twenty member Vancouver Chamber Choir is one of Canada's national treasures\, an outstanding professional vocal ensemble noted for its diverse repertoire and performing excellence.  Celebrating its 45th anniversary season\, the Choir\, under the direction of its founding conductor\, Jon Washburn\, continues to perform for audiences at home in Vancouver\, on tour across Canada\, as well as internationally.
X-ALT-DESC;FMTTYPE=text/html:The twenty member Vancouver Chamber Choir is one of Canada&#39\;s national treasures\, an outstanding professional vocal ensemble noted for its diverse repertoire and performing excellence. &nbsp\;Celebrating its 45th anniversary season\, the Choir\, under the direction of its founding conductor\, Jon Washburn\, continues to perform for audiences at home in Vancouver\, on tour across Canada\, as well as internationally.
LOCATION:Merryman Performing Arts Center
UID:e.1404.8959
SEQUENCE:3
DTSTAMP:20260421T123119Z
URL:https://chambermaster.kearneycoc.org/events/details/kearney-concert-association-vancouver-chamber-choir-11-14-2016-8959
END:VEVENT

END:VCALENDAR
