BEGIN:VCALENDAR
VERSION:2.0
PRODID:-//ChamberMaster//Event Calendar 2.0//EN
METHOD:PUBLISH
X-PUBLISHED-TTL:P3D
REFRESH-INTERVAL:P3D
CALSCALE:GREGORIAN
BEGIN:VEVENT
DTSTART:20150328T150000Z
DTEND:20150328T170000Z
X-MICROSOFT-CDO-ALLDAYEVENT:FALSE
SUMMARY:Kearney Family YMCA 2015 Easter Egg Bash
DESCRIPTION:Bring your Swimsuits! Be ready to Dive for Easter Eggs filled with Coins\, Tokens to the Y Family Center\, Prizes and More! Lifeguards will be on duty but it is suggested that parents get in with children who are non-swimmers. *Special Appearance from the Storm Hockey Team!! SATURDAY\, MARCH 28TH 2015 Easter Bunny on site from 10:00-11:30 AM ? CHILDREN 6 & UNDER 10:00-10:30 AM (MUST HAVE ADULT SUPERVISION IN THE WATER) ? CHILDREN 7 & OVER 10:45-11:15 AM (NON-SWIMMERS MUST HAVE ADULT SUPERVISION IN THE WATER) Please bring a basket to hold Prizes and Eggs!
X-ALT-DESC;FMTTYPE=text/html:Bring your Swimsuits! Be ready to Dive for Easter Eggs filled with Coins\, Tokens to the Y Family Center\, Prizes and More! Lifeguards will be on duty but it is suggested that parents get in with children who are non-swimmers. *Special Appearance from the Storm Hockey Team!! SATURDAY\, MARCH 28TH 2015 Easter Bunny on site from 10:00-11:30 AM ? CHILDREN 6 &amp\; UNDER 10:00-10:30 AM (MUST HAVE ADULT SUPERVISION IN THE WATER) ? CHILDREN 7 &amp\; OVER 10:45-11:15 AM (NON-SWIMMERS MUST HAVE ADULT SUPERVISION IN THE WATER) Please bring a basket to hold Prizes and Eggs!
LOCATION:Kearney Family YMCA- Pool
UID:e.1404.5996
SEQUENCE:3
DTSTAMP:20260422T225459Z
URL:https://chambermaster.kearneycoc.org/events/details/kearney-family-ymca-2015-easter-egg-bash-03-28-2015-5996
END:VEVENT

END:VCALENDAR
