BEGIN:VCALENDAR
VERSION:2.0
PRODID:-//ChamberMaster//Event Calendar 2.0//EN
METHOD:PUBLISH
X-PUBLISHED-TTL:P3D
REFRESH-INTERVAL:P3D
CALSCALE:GREGORIAN
BEGIN:VEVENT
DTSTART:20151203T160000Z
DTEND:20151203T230000Z
X-MICROSOFT-CDO-ALLDAYEVENT:FALSE
SUMMARY:Kearney Federal Credit Union Open House
DESCRIPTION:Kearney Federal Credit Union will be unveiling their new logo and name at 10am followed by an open house! Stop by for treats and lots of fun loot including 2016 calendars!
X-ALT-DESC;FMTTYPE=text/html:Kearney Federal Credit Union will be unveiling their new logo&nbsp\;and name at 10am followed by an open house! Stop by for treats and lots of fun loot including 2016 calendars!
LOCATION:2915 2nd Avenue
UID:e.1404.7016
SEQUENCE:3
DTSTAMP:20260422T084104Z
URL:https://chambermaster.kearneycoc.org/events/details/kearney-federal-credit-union-open-house-12-03-2015-7016
END:VEVENT

END:VCALENDAR
