BEGIN:VCALENDAR
VERSION:2.0
PRODID:-//ChamberMaster//Event Calendar 2.0//EN
METHOD:PUBLISH
X-PUBLISHED-TTL:P3D
REFRESH-INTERVAL:P3D
CALSCALE:GREGORIAN
BEGIN:VEVENT
DTSTART:20161025T220000Z
DTEND:20161026T020000Z
X-MICROSOFT-CDO-ALLDAYEVENT:FALSE
SUMMARY:Kearney Go Red For Women
DESCRIPTION:Join us for the second Kearney Go Red For Women\, chaired by Douglass Haas and Sharri Miner\, on Oct. 25 at Younes Conference Center. This year's theme is "Life Is Why\," encouraging everyone to think of the reasons they want to live a longer\, healthier life.\n\n\n\nSet to include hundreds of individuals from Kearney's business\, medical and social communities\, the evening begins with a cocktail hour and silent auction. The night continues with dinner\, live auction and an inspiring survivor story\, showing the significance of the American Heart Association's dedication to education\, research and prevention. \n\n\n\nIndividual tickets are $50 with tables and sponsorships available. For information\, contact Corporate Events Director Kerry Massey at 402-875-7375 or Kerry.Massey@heart.org. Additional are posted at http://www.kearneygored.org/ \n\n\n\nJoin the cause on social media with #KearneyGoesRed.
X-ALT-DESC;FMTTYPE=text/html:<span style="color: rgb(75\, 79\, 86)\; font-family: helvetica\, arial\, sans-serif\; font-size: 14px\; line-height: 18.76px\; background-color: rgb(255\, 255\, 255)\;">Join us for the second Kearney Go Red For Women\, chaired by Douglass Haas and Sharri Miner\, on Oct. 25 at Younes Conference Center. This year&rsquo\;s theme is &ldquo\;Life Is Why\,&rdquo\; encouraging everyone to think of the reasons they want to live a longer\, healthier life.</span><br style="color: rgb(75\, 79\, 86)\; font-family: helvetica\, arial\, sans-serif\; font-size: 14px\; line-height: 18.76px\; background-color: rgb(255\, 255\, 255)\;" />\n<br style="color: rgb(75\, 79\, 86)\; font-family: helvetica\, arial\, sans-serif\; font-size: 14px\; line-height: 18.76px\; background-color: rgb(255\, 255\, 255)\;" />\n<span style="color: rgb(75\, 79\, 86)\; font-family: helvetica\, arial\, sans-serif\; font-size: 14px\; line-height: 18.76px\; background-color: rgb(255\, 255\, 255)\;">Set to include hundreds of individuals from Kearney&rsquo\;s business\, medical and social communities\, the evening begins with a cocktail hour and silent auction. The night continues with dinner\, live auction and an inspiring survivor story\, showing the significance of the American Heart Association&#39\;s dedication to education\, research and prevention.&nbsp\;</span><br style="color: rgb(75\, 79\, 86)\; font-family: helvetica\, arial\, sans-serif\; font-size: 14px\; line-height: 18.76px\; background-color: rgb(255\, 255\, 255)\;" />\n<br style="color: rgb(75\, 79\, 86)\; font-family: helvetica\, arial\, sans-serif\; font-size: 14px\; line-height: 18.76px\; background-color: rgb(255\, 255\, 255)\;" />\n<span style="color: rgb(75\, 79\, 86)\; font-family: helvetica\, arial\, sans-serif\; font-size: 14px\; line-height: 18.76px\; background-color: rgb(255\, 255\, 255)\;">Individual tickets are $50 with tables and sponsorships available. For information\, contact Corporate Events Director Kerry Massey at 402-875-7375 or Kerry.Massey@heart.org. Additional are posted at&nbsp\;</span><a href="http://l.facebook.com/l.php?u=http%3A%2F%2Fwww.kearneygored.org%2F&amp\;h=bAQE1yTl1&amp\;enc=AZPbcD5RKgQv0lUrBjuqEmrNvxh-c-PNt8a8g4JiPIlAmkCTmFxFyBmekO4TKbNO0P0&amp\;s=1" rel="nofollow nofollow" style="color: rgb(54\, 88\, 153)\; cursor: pointer\; text-decoration: none\; font-family: helvetica\, arial\, sans-serif\; font-size: 14px\; line-height: 18.76px\; background-color: rgb(255\, 255\, 255)\;" target="_blank">http://<wbr />www.kearneygored.org/</a><span style="color: rgb(75\, 79\, 86)\; font-family: helvetica\, arial\, sans-serif\; font-size: 14px\; line-height: 18.76px\; background-color: rgb(255\, 255\, 255)\;">&nbsp\;</span><br style="color: rgb(75\, 79\, 86)\; font-family: helvetica\, arial\, sans-serif\; font-size: 14px\; line-height: 18.76px\; background-color: rgb(255\, 255\, 255)\;" />\n<br style="color: rgb(75\, 79\, 86)\; font-family: helvetica\, arial\, sans-serif\; font-size: 14px\; line-height: 18.76px\; background-color: rgb(255\, 255\, 255)\;" />\n<span style="color: rgb(75\, 79\, 86)\; font-family: helvetica\, arial\, sans-serif\; font-size: 14px\; line-height: 18.76px\; background-color: rgb(255\, 255\, 255)\;">Join the cause on social media with&nbsp\;</span><a class="_58cn" data-ft="{&quot\;tn&quot\;:&quot\;*N&quot\;\,&quot\;type&quot\;:104}" href="https://www.facebook.com/hashtag/kearneygoesred?source=feed_text" style="color: rgb(54\, 88\, 153)\; cursor: pointer\; text-decoration: none\; font-family: helvetica\, arial\, sans-serif\; font-size: 14px\; line-height: 18.76px\; background-color: rgb(255\, 255\, 255)\;">#KearneyGoesRed</a><span style="color: rgb(75\, 79\, 86)\; font-family: helvetica\, arial\, sans-serif\; font-size: 14px\; line-height: 18.76px\; background-color: rgb(255\, 255\, 255)\;">.</span>
LOCATION:Younes Conference Center 416 W Talmadge Rd
UID:e.1404.8911
SEQUENCE:3
DTSTAMP:20260421T140603Z
URL:https://chambermaster.kearneycoc.org/events/details/kearney-go-red-for-women-10-25-2016-8911
END:VEVENT

END:VCALENDAR
