BEGIN:VCALENDAR
VERSION:2.0
PRODID:-//ChamberMaster//Event Calendar 2.0//EN
METHOD:PUBLISH
X-PUBLISHED-TTL:P3D
REFRESH-INTERVAL:P3D
CALSCALE:GREGORIAN
BEGIN:VEVENT
DTSTART:20190426T210000Z
DTEND:20190427T030000Z
X-MICROSOFT-CDO-ALLDAYEVENT:FALSE
SUMMARY:Kearney Love Local Week: Celebrate Kearney!
DESCRIPTION:
X-ALT-DESC;FMTTYPE=text/html:
LOCATION:University Village
UID:e.1404.15447
SEQUENCE:3
DTSTAMP:20260426T033412Z
URL:https://chambermaster.kearneycoc.org/events/details/kearney-love-local-week-celebrate-kearney-15447
END:VEVENT

END:VCALENDAR
