BEGIN:VCALENDAR
VERSION:2.0
PRODID:-//ChamberMaster//Event Calendar 2.0//EN
METHOD:PUBLISH
X-PUBLISHED-TTL:P3D
REFRESH-INTERVAL:P3D
CALSCALE:GREGORIAN
BEGIN:VEVENT
DTSTART:20190422T220000Z
DTEND:20190423T010000Z
X-MICROSOFT-CDO-ALLDAYEVENT:FALSE
SUMMARY:Kearney Love Local Week: ManDay Monday
DESCRIPTION:Join us for ManDay Monday: Bros & Brews Tour to kick off our Kearney Love Local Week!
X-ALT-DESC;FMTTYPE=text/html:Join us for ManDay Monday: Bros &amp\; Brews Tour to kick off our Kearney Love Local Week!&nbsp\;
LOCATION:TBD
UID:e.1404.15443
SEQUENCE:3
DTSTAMP:20260426T033307Z
URL:https://chambermaster.kearneycoc.org/events/details/kearney-love-local-week-manday-monday-15443
END:VEVENT

END:VCALENDAR
