BEGIN:VCALENDAR
VERSION:2.0
PRODID:-//ChamberMaster//Event Calendar 2.0//EN
METHOD:PUBLISH
X-PUBLISHED-TTL:P3D
REFRESH-INTERVAL:P3D
CALSCALE:GREGORIAN
BEGIN:VEVENT
DTSTART:20140503T140000Z
DTEND:20140503T190000Z
X-MICROSOFT-CDO-ALLDAYEVENT:FALSE
SUMMARY:Kearney Powersports Blood Drive
DESCRIPTION:Please come donate blood at our upcoming blood drive on May 3rd from 9am-2:00pm. Call us at 308-236-7672 to set up your appointment or go to the Red Cross' website. All presenting donors will receive a $10.00 Kearney Powersports gift card!
X-ALT-DESC;FMTTYPE=text/html:Please come donate blood at our upcoming blood drive on May 3rd from 9am-2:00pm. Call us at 308-236-7672 to set up your appointment or go to the Red Cross&#39\; website. All presenting donors will receive a $10.00 Kearney Powersports gift card!
LOCATION:Kearney Powersports/ 511 2nd Ave S/ Kearney\, NE 68847
UID:e.1404.4681
SEQUENCE:3
DTSTAMP:20260423T151847Z
URL:https://chambermaster.kearneycoc.org/events/details/kearney-powersports-blood-drive-05-03-2014-4681
END:VEVENT

END:VCALENDAR
