BEGIN:VCALENDAR
VERSION:2.0
PRODID:-//ChamberMaster//Event Calendar 2.0//EN
METHOD:PUBLISH
X-PUBLISHED-TTL:P3D
REFRESH-INTERVAL:P3D
CALSCALE:GREGORIAN
BEGIN:VEVENT
DTSTART:20120908T140000Z
DTEND:20120908T190000Z
X-MICROSOFT-CDO-ALLDAYEVENT:FALSE
SUMMARY:Kearney Powersports Blood Drive
DESCRIPTION:Come donate blood at our upcoming blood drive!  All presenting donors will receive a $10 Kearney Powersports gift card.  Food will also be provided to all donors!
X-ALT-DESC;FMTTYPE=text/html:Come donate blood at our upcoming blood drive!&nbsp\; All presenting donors will receive a $10 Kearney Powersports gift card.&nbsp\; Food will also be provided to all donors!
LOCATION:Kearney Powersports 511 S 2nd Ave Kearney\, NE 68847
UID:e.1404.2181
SEQUENCE:3
DTSTAMP:20260425T020107Z
URL:https://chambermaster.kearneycoc.org/events/details/kearney-powersports-blood-drive-09-08-2012-2181
END:VEVENT

END:VCALENDAR
