BEGIN:VCALENDAR
VERSION:2.0
PRODID:-//ChamberMaster//Event Calendar 2.0//EN
METHOD:PUBLISH
X-PUBLISHED-TTL:P3D
REFRESH-INTERVAL:P3D
CALSCALE:GREGORIAN
BEGIN:VEVENT
DTSTART:20200226T013000Z
DTEND:20200226T030000Z
X-MICROSOFT-CDO-ALLDAYEVENT:FALSE
SUMMARY:Kearney Symphony Orchestra Concert
DESCRIPTION:Join us at the FAB for Kearney Symphony Orchestra's first concert of the semester. This concert will feature works by Gould\, Copland\, Bernstein\, and Donizetti. This concert will be livestreamed at http://www.unk.edu/academics/music/performing-art-live-stream-events.php. POSTS
X-ALT-DESC;FMTTYPE=text/html:Join us at the FAB for Kearney Symphony Orchestra&#39\;s first concert of the semester. This concert will feature works by Gould\, Copland\, Bernstein\, and Donizetti. This concert will be livestreamed at http://www.unk.edu/academics/music/performing-art-live-stream-events.php. POSTS
LOCATION:UNK FAB Recital Hall
UID:e.1404.18319
SEQUENCE:3
DTSTAMP:20260425T113230Z
URL:https://chambermaster.kearneycoc.org/events/details/kearney-symphony-orchestra-concert-18319
END:VEVENT

END:VCALENDAR
