BEGIN:VCALENDAR
VERSION:2.0
PRODID:-//ChamberMaster//Event Calendar 2.0//EN
METHOD:PUBLISH
X-PUBLISHED-TTL:P3D
REFRESH-INTERVAL:P3D
CALSCALE:GREGORIAN
BEGIN:VEVENT
DTSTART:20150814T220000Z
DTEND:20150815T000000Z
X-MICROSOFT-CDO-ALLDAYEVENT:FALSE
SUMMARY:Kearney Tackles Cancer BBQ
DESCRIPTION:2015 Kearney Tackles Cancer BBQ $5 per meal and 1 raffle ticket ~raffle prizes ~auction items ~live entertainment ~kids' activities Raise funds to help cancer patients with the everyday costs of living while they fight the biggest battle of their lives
X-ALT-DESC;FMTTYPE=text/html:2015 Kearney Tackles Cancer BBQ $5 per meal and 1 raffle ticket ~raffle prizes ~auction items ~live entertainment ~kids&#39\; activities Raise funds to help cancer patients with the everyday costs of living while they fight the biggest battle of their lives
LOCATION:Harmon Park Activity Center
UID:e.1404.6677
SEQUENCE:3
DTSTAMP:20260422T133001Z
URL:https://chambermaster.kearneycoc.org/events/details/kearney-tackles-cancer-bbq-08-14-2015-6677
END:VEVENT

END:VCALENDAR
