BEGIN:VCALENDAR
VERSION:2.0
PRODID:-//ChamberMaster//Event Calendar 2.0//EN
METHOD:PUBLISH
X-PUBLISHED-TTL:P3D
REFRESH-INTERVAL:P3D
CALSCALE:GREGORIAN
BEGIN:VEVENT
DTSTART:20130914T150000Z
DTEND:20130914T193000Z
X-MICROSOFT-CDO-ALLDAYEVENT:FALSE
SUMMARY:Kearney Therapeutic Horseback Riding Program Horse Show
DESCRIPTION:Please join us on\n\n	Saturday\, September 14\, 2013\n\n	at 10 a.m. to 2:30 p.m.\n\n	for our First Annual Horse Show\n\n	at the Buffalo County Fairgrounds\n\n	(Please enter through east doors of Pole Barn)\n\n	Our riders will be showcasing their talents.  Please come and see what your support has allowed these riders to accomplish.\n\n	\n\n	For information contact Tanya Wegner at 308-293-6025.
X-ALT-DESC;FMTTYPE=text/html:<p class="MsoNormal" style="margin-bottom: 0pt\; mso-pagination: none\;">\n	<span bdcn="" bernhard="" brush="" lang="en-US" script="" style="line-height: 119%\; font-family: \;">Please join us on</span><br />\n	<span bdcn="" bernhard="" lang="en-US" style="font-family: \;">Saturday\, September 14\, 2013</span><br />\n	<span bdcn="" bernhard="" lang="en-US" style="font-family: \;">at 10 a.m. to 2:30 p.m.</span><br />\n	<span bdcn="" bernhard="" lang="en-US" style="font-family: \;">for our First Annual Horse Show</span><br />\n	<span bdcn="" bernhard="" lang="en-US" style="font-family: \;">at the Buffalo County Fairgrounds</span><br />\n	<span bdcn="" bernhard="" lang="en-US" style="font-family: \;">(Please enter through east doors of Pole Barn)</span><br />\n	<span bdcn="" bernhard="" brush="" lang="en-US" script="" style="line-height: 75%\; font-family: \;">Our riders will be showcasing their </span><span bdcn="" bernhard="" brush="" lang="en-US" script="" style="line-height: 75%\; font-family: \;">talents.<span style="mso-spacerun: yes\;">&nbsp\; </span>Please come and see what your support has allowed these riders to </span><span bdcn="" bernhard="" brush="" lang="en-US" script="" style="line-height: 75%\; font-family: \;">accomplish.</span><br />\n	<br />\n	<span bdcn="" bernhard="" brush="" lang="en-US" script="" style="line-height: 75%\; font-family: \;">For information contact Tanya Wegner at 308-293-6025.</span></p>\n<p class="MsoNormal" style="margin-bottom: 0pt\; mso-pagination: none\;">\n	<span bdcn="" bernhard="" lang="en-US" style="line-height: 119%\; font-family: \;">&nbsp\;</span></p>\n<p class="MsoNormal" style="margin-bottom: 0pt\; mso-pagination: none\;">\n	<span bdcn="" bernhard="" lang="en-US" style="line-height: 119%\; font-family: \;">&nbsp\;</span></p>\n<p class="MsoNormal" style="mso-pagination: none\;">\n	<span lang="en-US" style="language: en-US\; mso-ligatures: none\;">&nbsp\;</span></p>\n
LOCATION:Buffalo County Fairgrounds
UID:e.1404.3302
SEQUENCE:3
DTSTAMP:20260424T040010Z
URL:https://chambermaster.kearneycoc.org/events/details/kearney-therapeutic-horseback-riding-program-horse-show-09-14-2013-3302
END:VEVENT

END:VCALENDAR
