BEGIN:VCALENDAR
VERSION:2.0
PRODID:-//ChamberMaster//Event Calendar 2.0//EN
METHOD:PUBLISH
X-PUBLISHED-TTL:P3D
REFRESH-INTERVAL:P3D
CALSCALE:GREGORIAN
BEGIN:VEVENT
DTSTART:20140918T230000Z
DTEND:20140919T010000Z
X-MICROSOFT-CDO-ALLDAYEVENT:FALSE
SUMMARY:Kearney Walk to End Alzheimer's
DESCRIPTION:With more than 5 million people living with Alzheimer's disease\, over 15 million caregivers\, and many more who will be affected in the future ? this Walk is personal. It's time for us to unite in the movement to reclaim the future for millions. Alzheimer's disease has already gone too far\, but together we can go further?by walking toward methods of treatment\, prevention and\, ultimately\, a cure. Mark your calendars for the Kearney Alzheimer's Association Walk to End Alzheimer's  on September 18th!
X-ALT-DESC;FMTTYPE=text/html:With more than 5 million people living with Alzheimer&#39\;s disease\, over 15 million caregivers\, and many more who will be affected in the future ? this Walk is personal. It&#39\;s time for us to unite in the movement to reclaim the future for millions. Alzheimer&#39\;s disease has already gone too far\, but together we can go further?by walking toward methods of treatment\, prevention and\, ultimately\, a cure. Mark your calendars for the Kearney Alzheimer&#39\;s Association Walk to End Alzheimer&#39\;s&reg\; on September 18th!
LOCATION:Peterson Senior Activity Center Yanney Park 2020 W. 11th St. Kearney\, NE 68845
UID:e.1404.5158
SEQUENCE:3
DTSTAMP:20260423T083902Z
URL:https://chambermaster.kearneycoc.org/events/details/kearney-walk-to-end-alzheimer-s-09-18-2014-5158
END:VEVENT

END:VCALENDAR
