BEGIN:VCALENDAR
VERSION:2.0
PRODID:-//ChamberMaster//Event Calendar 2.0//EN
METHOD:PUBLISH
X-PUBLISHED-TTL:P3D
REFRESH-INTERVAL:P3D
CALSCALE:GREGORIAN
BEGIN:VEVENT
DTSTART:20160811T210000Z
DTEND:20160811T230000Z
X-MICROSOFT-CDO-ALLDAYEVENT:FALSE
SUMMARY:Kearney Walk to End Alzheimer's Kick Off Party
DESCRIPTION:Alzheimer's disease is an epidemic.  One in three seniors dies with Alzheimer's or another dementia\, it is the sixth-leading cause of death in the United State and the only cause of death in the top 10 in America that cannot be prevented\, cured or slowed.\n\n\n\nWe invite you to come join us at the Thunderhead Brewing Company as we kick off the Kearney Walk to End Alzheimer's!  Bring your friends\, enjoy free food\, a complimentary can of beer and a free brewery tour as you learn more about Walk and how we can work together to have a successful year.\n\n\n\n\n\nFood will be provided and guests will receive a complimentary can of beer and brewery tour!
X-ALT-DESC;FMTTYPE=text/html:<span style="font-size: 10pt\; font-family: Arial\, sans-serif\;">Alzheimer&#39\;s disease is an epidemic. &nbsp\;One in three seniors dies with Alzheimer&#39\;s or another dementia\, it is the sixth-leading cause of death in the United State and the only cause of death in the top 10 in America that cannot be prevented\, cured or slowed.<br />\n<br />\nWe invite you to come join us at the Thunderhead Brewing Company as we kick off the Kearney Walk to End Alzheimer&#39\;s! &nbsp\;Bring your friends\, enjoy free food\, a complimentary can of beer and a free brewery tour as you learn more about Walk and how we can work together to have a successful year.<br />\n<!--[if !supportLineBreakNewLine]--><br />\n<!--[endif]--></span><br />\nFood will be provided and guests will receive a complimentary can of beer and brewery tour!
LOCATION:Thunderhead Brewing Company 18 E 21st Street
UID:e.1404.8951
SEQUENCE:3
DTSTAMP:20260421T172040Z
URL:https://chambermaster.kearneycoc.org/events/details/kearney-walk-to-end-alzheimer-s-kick-off-party-08-11-2016-8951
END:VEVENT

END:VCALENDAR
