BEGIN:VCALENDAR
VERSION:2.0
PRODID:-//ChamberMaster//Event Calendar 2.0//EN
METHOD:PUBLISH
X-PUBLISHED-TTL:P3D
REFRESH-INTERVAL:P3D
CALSCALE:GREGORIAN
BEGIN:VEVENT
DTSTART:20160728T223000Z
DTEND:20160729T010000Z
X-MICROSOFT-CDO-ALLDAYEVENT:FALSE
SUMMARY:Kearney Whitewater Association BBQ Public Float & Fundraiser
DESCRIPTION:The Kearney Whitewater Association would like to invite you to attend our summer BBQ Public Float and Fundraiser being held on July 28. Join us on the river for a beautiful evening float on the new Kearney Water Trail starting at the new Yanney Park landing. Plus this week we'll go farther downriver to see the tree covered sections past Central Avenue. We'll take out at the Kearney Paddle Sports landing near the Kearney RV Park & Campground north park.\n\n \n\nAt the take-out we'll provide pork sandwiches\, sides\, desserts and drinks while we enjoy great company and a beautiful streamside setting. There will be a free will offering and donations will also be accepted. Come out - have a great time   support a great cause and help bring more recreation opportunities to our great city! Please RSVP by replying to this message so we can get an idea for meal purposes. Click this link to see the location of the Kearney Paddle Sports landing - https://goo.gl/maps/4RUEvZhLS292 \n\n \n\nFor those of you who are not interested in paddling but have supported us in the past and would like to learn more about recent developments this is a great time to get something to eat\, see the water trail being utilized\, ask questions and learn how you can continue to help us reach our goals. If this describes you please plan on showing up at the Kearney Paddle Sports landing between 7 & 7:30 (about when the boaters reach the end of the float). Enter at the north RV park and (slowly) drive approx. 3/8 mile east.\n\n \n\nThis is a PUBLIC INVITE to paddle\, if you plan to paddle you will need to supply your own boat\, paddle and lifejacket as well as be responsible for yourself and your friends/family as it relates to paddling skills\, etc. Liability Waivers will need to be signed by all participants prior to launching at Yanney Park.\n\n \n\nDETAILS:\n\n*Show up as early as 5:30\, Brief safety and KWA Vision TALK\, then launch at 6:00pm.\n\n*Float will be around 90 minutes on the water\, from Yanney Park on 11th Street to the private Kearney Paddlesports Landing near the Kearney RV Park downriver.\n\n*Theme   Hawaiian   Dress in your favorite Hawaiian attire!\n\n*There is NO SHUTTLE PROVIDED THIS YEAR! But we will all need to help each with ride sharing and help getting to the put in and take out.\n\n*PLEASE - in order to evenly distribute vehicles\, we need about half of the vehicles to remain at the put-in (Park at Peterson Center lot) and half at the take-out east of Kearney RV Park north park. We can and will all help each other share rides at the conclusion to get everyone back to their vehicles\, etc.
X-ALT-DESC;FMTTYPE=text/html:<span style="color:black\;"><span style="font-family:tahoma\,sans-serif\;"><span style="font-size:11.5pt\;">The Kearney Whitewater Association would like to invite you to attend our summer BBQ Public Float and Fundraiser being held on July 28. Join us&nbsp\;</span></span></span><span style="color:black\;"><span style="font-family:tahoma\,sans-serif\;"><span style="font-size:11.5pt\;">on the river for a beautiful evening float on the new Kearney Water Trail starting at the new Yanney Park landing. Plus this week we&rsquo\;ll go farther downriver to see the tree covered sections past Central Avenue. We&#39\;ll take out at the <a href="https://www.kearneypaddlesports.com/">Kearney Paddle Sports</a> landing near the <a href="http://www.kearneyrv.com/">Kearney RV Park &amp\; Campground</a> north park.</span></span></span><br />\n&nbsp\;<br />\n<span style="color:black\;"><span style="font-family:tahoma\,sans-serif\;"><span style="font-size:11.5pt\;">At the take-out we&#39\;ll provide pork sandwiches\, sides\, desserts and drinks while we enjoy great company and a beautiful streamside setting. There will be a free will offering and donations will also be accepted. Come out - have a great time &ndash\; support a great cause and help bring more recreation opportunities to our great city! Please RSVP by replying to this message so we can get an idea for meal purposes. Click this link to see the location of the <a href="https://www.kearneypaddlesports.com/">Kearney Paddle Sports</a> landing - <a href="https://goo.gl/maps/4RUEvZhLS292">https://goo.gl/maps/4RUEvZhLS292</a> </span></span></span><br />\n&nbsp\;<br />\n<span style="color:black\;"><span style="font-family:tahoma\,sans-serif\;"><span style="font-size:11.5pt\;">For those of you who are not interested in paddling but have supported us in the past and would like to learn more about recent developments this is a great time to get something to eat\, see the water trail being utilized\, ask questions and learn how you can continue to help us reach our goals. If this describes you please plan on showing up at the <a href="https://www.kearneypaddlesports.com/">Kearney Paddle Sports</a> landing between 7 &amp\; 7:30 (about when the boaters reach the end of the float). Enter at the north RV park </span></span></span><span style="font-family:tahoma\,sans-serif\;"><span style="font-size:11.5pt\;">and (slowly) drive <span style="color:black\;">approx. 3/8 mile east.</span></span></span><br />\n&nbsp\;<br />\n<span style="color:black\;"><span style="font-family:tahoma\,sans-serif\;"><span style="font-size:11.5pt\;">This is a PUBLIC INVITE to paddle\, if you plan to paddle you will need to supply your own boat\, paddle and lifejacket as well as be responsible for yourself and your friends/family as it relates to paddling skills\, etc. Liability Waivers will need to be signed by all participants prior to launching at Yanney Park.</span></span></span><br />\n&nbsp\;<br />\n<span style="color:black\;"><span style="font-family:tahoma\,sans-serif\;"><span style="font-size:11.5pt\;">DETAILS:</span></span></span><br />\n<span style="color:black\;"><span style="font-family:tahoma\,sans-serif\;"><span style="font-size:11.5pt\;">*Show up as early as 5:30\, Brief safety and KWA Vision TALK\, then launch at 6:00pm.</span></span></span><br />\n<span style="color:black\;"><span style="font-family:tahoma\,sans-serif\;"><span style="font-size:11.5pt\;">*Float will be around 90 minutes on the water\, from Yanney Park on 11th Street to the private Kearney Paddlesports Landing near the Kearney RV Park downriver.</span></span></span><br />\n<span style="color:black\;"><span style="font-family:tahoma\,sans-serif\;"><span style="font-size:11.5pt\;">*Theme &ndash\; Hawaiian &nbsp\;&nbsp\;Dress in your favorite Hawaiian attire!</span></span></span><br />\n<span style="color:black\;"><span style="font-family:tahoma\,sans-serif\;"><span style="font-size:11.5pt\;">*There is NO SHUTTLE PROVIDED THIS YEAR! But we will all need to help each with ride sharing and help getting to the put in and take out.</span></span></span><br />\n<span style="color:black\;"><span style="font-family:tahoma\,sans-serif\;"><span style="font-size:11.5pt\;">*PLEASE - in order to evenly distribute vehicles\, we need about half of the vehicles to remain at the put-in (Park at Peterson Center lot) and half at the take-out east of <a href="http://www.kearneyrv.com/">Kearney RV Park</a> north park. We can and will all help each other share rides at the conclusion to get everyone back to their vehicles\, etc.</span></span></span>
LOCATION:Yanney Park 2020 W. 11th St.
UID:e.1404.8940
SEQUENCE:3
DTSTAMP:20260421T184645Z
URL:https://chambermaster.kearneycoc.org/events/details/kearney-whitewater-association-bbq-public-float-fundraiser-07-28-2016-8940
END:VEVENT

END:VCALENDAR
