BEGIN:VCALENDAR
VERSION:2.0
PRODID:-//ChamberMaster//Event Calendar 2.0//EN
METHOD:PUBLISH
X-PUBLISHED-TTL:P3D
REFRESH-INTERVAL:P3D
CALSCALE:GREGORIAN
BEGIN:VEVENT
DTSTART:20190827T233000Z
DTEND:20190828T000000Z
X-MICROSOFT-CDO-ALLDAYEVENT:FALSE
SUMMARY:Kearney Y Tsunami (youth) Swim Team Parent Informational Meeting
DESCRIPTION:GROWING STRONGER AS A TEAM\n\nTSUNAMI SWIM TEAM\n\n 2019-2020 SEASON BEGINS SEPTEMBER 3RD\n\nJoin the Kearney Family YMCA Tsunami Swim Team family\, develop skills\, create memories and friendships to last a lifetime. \n\n\n\nParent Informational Meeting:\n\nTuesday\, August 27th @ 6:30pm in Child Development Center for information on the upcoming season. If your not quite sure you want to join not a problem at all. Stop by and learn more about the program!
X-ALT-DESC;FMTTYPE=text/html:<span style="font-size:22px"><span style="color:#000080"><span style="font-family:cachet bold">GROWING </span></span><span style="color:#0000FF"><span style="font-family:cachet bold">STRONGER&nbsp\;</span></span></span><span style="color:#0000CD"><span style="font-size:22px"><span style="font-family:cachet bold">AS A TEAM</span></span></span><br />\n<span style="font-size:22px"><span style="color:#FFA500"><span style="font-family:cachet bold">TSUNAMI SWIM TEAM</span></span></span><br />\n&nbsp\;<span style="font-size:18px"><span style="color:black"><span style="font-family:cachet medium">2019-2020 SEASON BEGINS SEPTEMBER 3RD</span></span></span><br />\n<span style="font-size:14px"><span style="font-family:cachet medium">Join the Kearney Family YMCA Tsunami Swim Team family\, develop skills\, create memories and friendships to last a lifetime. </span></span><br />\n<br />\n<span style="color:rgb(192\, 0\, 0)\; font-size:14px"><span style="font-family:cachet medium">Parent Informational Meeting:</span></span><br />\n<span style="font-family:cachet medium\; font-size:14px">Tuesday\, August 27th @ 6:30pm&nbsp\;</span><span style="font-family:cachet book\; font-size:14px">in Child Development Center for information on the upcoming season. If your not quite sure you want to join not a problem at all. Stop by and learn more about the program!&nbsp\;</span><br />\n&nbsp\;
LOCATION:Kearney Family YMCA
UID:e.1404.16645
SEQUENCE:3
DTSTAMP:20260425T213428Z
URL:https://chambermaster.kearneycoc.org/events/details/kearney-y-tsunami-youth-swim-team-parent-informational-meeting-16645
END:VEVENT

END:VCALENDAR
