BEGIN:VCALENDAR
VERSION:2.0
PRODID:-//ChamberMaster//Event Calendar 2.0//EN
METHOD:PUBLISH
X-PUBLISHED-TTL:P3D
REFRESH-INTERVAL:P3D
CALSCALE:GREGORIAN
BEGIN:VEVENT
DTSTART:20220212T000000Z
DTEND:20220212T023000Z
X-MICROSOFT-CDO-ALLDAYEVENT:FALSE
SUMMARY:Kids Night Out at the Museum
DESCRIPTION:
X-ALT-DESC;FMTTYPE=text/html:
LOCATION:Kearney Area Children's Museum 5827 4th Avenue\, Kearney\, NE 68845
UID:e.1404.19634
SEQUENCE:3
DTSTAMP:20260423T181351Z
URL:https://chambermaster.kearneycoc.org/events/details/kids-night-out-at-the-museum-02-11-2022-19634
END:VEVENT

END:VCALENDAR
