BEGIN:VCALENDAR
VERSION:2.0
PRODID:-//ChamberMaster//Event Calendar 2.0//EN
METHOD:PUBLISH
X-PUBLISHED-TTL:P3D
REFRESH-INTERVAL:P3D
CALSCALE:GREGORIAN
BEGIN:VEVENT
DTSTART:20190614T230000Z
DTEND:20190615T013000Z
X-MICROSOFT-CDO-ALLDAYEVENT:FALSE
SUMMARY:Kids Night Out at the Museum
DESCRIPTION:Bring your kids to the museum for a fun evening with their friends! They will enjoy free play in exhibits\, an educational activity or craft\, dinner\, and more! Dinner will be corn dogs\, fruit\, cookie\, lemonade or water. If children have food allergies\, or do not like the meal provided\, they are welcome to bring dinner along with them. \n\n\n\nThis event is for children ages 3-12. \n\nMembers $10\, Non Members $15\n\nPlease note that all children need to be able to use the restroom independently. \n\nRefunds not available.
X-ALT-DESC;FMTTYPE=text/html:Bring your kids to the museum for a fun evening with their friends! They will enjoy free play in exhibits\, an educational activity or craft\, dinner\, and more! Dinner will be corn dogs\, fruit\, cookie\, lemonade or water. If children have food allergies\, or do not like the meal provided\, they are welcome to bring dinner along with them.&nbsp\;<br />\n<br />\nThis event is for children ages 3-12.&nbsp\;<br />\nMembers $10\, Non Members $15<br />\nPlease note that all children need to be able to use the restroom independently.&nbsp\;<br />\nRefunds not available.&nbsp\;
LOCATION:Kearney Area Children's Museum The Alia Arram Memorial Building\, Kearney\, NE 68845
UID:e.1404.16539
SEQUENCE:3
DTSTAMP:20260426T004730Z
URL:https://chambermaster.kearneycoc.org/events/details/kids-night-out-at-the-museum-06-14-2019-16539
END:VEVENT

END:VCALENDAR
