BEGIN:VCALENDAR
VERSION:2.0
PRODID:-//ChamberMaster//Event Calendar 2.0//EN
METHOD:PUBLISH
X-PUBLISHED-TTL:P3D
REFRESH-INTERVAL:P3D
CALSCALE:GREGORIAN
BEGIN:VEVENT
DTSTART:20211113T000000Z
DTEND:20211113T030000Z
X-MICROSOFT-CDO-ALLDAYEVENT:FALSE
SUMMARY:Kids Night Out - BINGO Night!
DESCRIPTION:Get ready to shout BINGO! and play other fun games with your friends! \nWe have extended the hours for this month's event as we are also hosting a Couples Only Trivia Night at Clint Smith Graphics. \n\nDinner will be popcorn chicken\, fruit\, cookie\, lemonade or water. If children have any food allergies they are welcome to bring their own dinner along with them.\n\n\nThis event is for children ages 3-12.
X-ALT-DESC;FMTTYPE=text/html:<span style="color:rgb(0\, 30\, 54)">Get ready to shout BINGO! and play other fun games with your friends!&nbsp\;</span>\n<div><span style="font-family:arial\; font-size:small">We have extended the hours for this month&#39\;s event as we are also hosting a Couples Only Trivia Night at Clint Smith Graphics.&nbsp\;</span></div>\n\n<p>Dinner will be popcorn chicken\, fruit\, cookie\, lemonade or water. If children have any food allergies they are welcome to bring their own dinner along with them.</p>\n\n<div>\n<p>This event is for children ages 3-12.&nbsp\;</p>\n</div>\n
LOCATION:Kearney Area Children's Museum 5827 4th Avenue\, Kearney\, NE 68845
UID:e.1404.19435
SEQUENCE:3
DTSTAMP:20260423T232607Z
URL:https://chambermaster.kearneycoc.org/events/details/kids-night-out-bingo-night-19435
END:VEVENT

END:VCALENDAR
